BEGIN:VCALENDAR
VERSION:2.0
PRODID:-//Invest in Angus - ECPv6.15.17.1//NONSGML v1.0//EN
CALSCALE:GREGORIAN
METHOD:PUBLISH
X-ORIGINAL-URL:https://investinangus.com
X-WR-CALDESC:Events for Invest in Angus
REFRESH-INTERVAL;VALUE=DURATION:PT1H
X-Robots-Tag:noindex
X-PUBLISHED-TTL:PT1H
BEGIN:VTIMEZONE
TZID:UTC
BEGIN:STANDARD
TZOFFSETFROM:+0000
TZOFFSETTO:+0000
TZNAME:UTC
DTSTART:20230101T000000
END:STANDARD
END:VTIMEZONE
BEGIN:VEVENT
DTSTART;TZID=UTC:20240117T120000
DTEND;TZID=UTC:20240117T130000
DTSTAMP:20260420T155840
CREATED:20240115T104611Z
LAST-MODIFIED:20240115T104611Z
UID:10088476-1705492800-1705496400@investinangus.com
SUMMARY:Power up your presentations with storytelling
DESCRIPTION:Stuck in the same old groove when you present information about your business? Want to do something different but not sure how? \nJoin this introduction to storytelling and learn how to craft compelling and memorable stories for presentations\, podcasts and talks that will generate more leads for your business and leave your audiences inspired to work with you.
URL:https://investinangus.com/event/power-up-your-presentations-with-storytelling/
CATEGORIES:Digital Marketing,Marketing
END:VEVENT
END:VCALENDAR