BEGIN:VCALENDAR
VERSION:2.0
PRODID:-//Invest in Angus - ECPv6.15.17.1//NONSGML v1.0//EN
CALSCALE:GREGORIAN
METHOD:PUBLISH
X-ORIGINAL-URL:https://investinangus.com
X-WR-CALDESC:Events for Invest in Angus
REFRESH-INTERVAL;VALUE=DURATION:PT1H
X-Robots-Tag:noindex
X-PUBLISHED-TTL:PT1H
BEGIN:VTIMEZONE
TZID:UTC
BEGIN:STANDARD
TZOFFSETFROM:+0000
TZOFFSETTO:+0000
TZNAME:UTC
DTSTART:20230101T000000
END:STANDARD
END:VTIMEZONE
BEGIN:VEVENT
DTSTART;TZID=UTC:20240320T120000
DTEND;TZID=UTC:20240320T130000
DTSTAMP:20260420T110235
CREATED:20240226T152831Z
LAST-MODIFIED:20240226T152831Z
UID:10088766-1710936000-1710939600@investinangus.com
SUMMARY:Quit stalling and build your brand
DESCRIPTION:Join this webinar to explore the current range of low-cost digital technologies that can help you build your business and your brand.
URL:https://investinangus.com/event/quit-stalling-and-build-your-brand/
CATEGORIES:Business Planning,Digital Marketing,Marketing
END:VEVENT
END:VCALENDAR