BEGIN:VCALENDAR
VERSION:2.0
PRODID:-//Invest in Angus - ECPv6.15.17.1//NONSGML v1.0//EN
CALSCALE:GREGORIAN
METHOD:PUBLISH
X-ORIGINAL-URL:https://investinangus.com
X-WR-CALDESC:Events for Invest in Angus
REFRESH-INTERVAL;VALUE=DURATION:PT1H
X-Robots-Tag:noindex
X-PUBLISHED-TTL:PT1H
BEGIN:VTIMEZONE
TZID:UTC
BEGIN:STANDARD
TZOFFSETFROM:+0000
TZOFFSETTO:+0000
TZNAME:UTC
DTSTART:20230101T000000
END:STANDARD
END:VTIMEZONE
BEGIN:VEVENT
DTSTART;TZID=UTC:20240709T123000
DTEND;TZID=UTC:20240709T133000
DTSTAMP:20260420T023115
CREATED:20240701T162605Z
LAST-MODIFIED:20240701T162605Z
UID:10089542-1720528200-1720531800@investinangus.com
SUMMARY:Introduction to inclusive marketing & communications
DESCRIPTION:Marketing today is more than just being the first or best product on the market. \nWhen you communicate with your employees\, customers and stakeholders\, you are making a statement about the values and ethos of your organisation. And if you are not approaching your marketing and communications with an inclusive lens\, you risk alienating customers and miss out on revenue. \nJoin this session for more insights on: \n\ninclusive language\naccessibility considerations\ncommon mistakes and tips on engaging a diverse audience
URL:https://investinangus.com/event/introduction-to-inclusive-marketing-communications/
CATEGORIES:Marketing
END:VEVENT
BEGIN:VEVENT
DTSTART;TZID=UTC:20240709T130000
DTEND;TZID=UTC:20240709T160000
DTSTAMP:20260420T023115
CREATED:20240701T162659Z
LAST-MODIFIED:20240701T162659Z
UID:10089544-1720530000-1720540800@investinangus.com
SUMMARY:Marketing for your small business
DESCRIPTION:Without proper marketing your business cannot have a lasting impact. This live webinar will help you to identify\, profile and gain a deeper understanding of your target audiences\, how to conduct market research and build a marketing plan. It will also explain brand development and positioning\, and choosing your price points. \nThe webinar is divided into three sessions. \nMarketing and market research: \n\nwhat is marketing?\nhow to understand your audience using market research\n\nUnderstanding your customers and competition: \n\nunderstanding your competitors\nidentifying your customers and categorising them\nunderstanding your customers’ needs and motivations\n\nMarketing planning\, pricing and branding: \n\npricing considerations\ndeveloping your brand\ndeveloping your message\ndeciding on the best marketing methods for your business\nbudgeting and evaluating
URL:https://investinangus.com/event/marketing-for-your-small-business/
CATEGORIES:Marketing
END:VEVENT
END:VCALENDAR