BEGIN:VCALENDAR
VERSION:2.0
PRODID:-//Invest in Angus - ECPv6.15.17.1//NONSGML v1.0//EN
CALSCALE:GREGORIAN
METHOD:PUBLISH
X-ORIGINAL-URL:https://investinangus.com
X-WR-CALDESC:Events for Invest in Angus
REFRESH-INTERVAL;VALUE=DURATION:PT1H
X-Robots-Tag:noindex
X-PUBLISHED-TTL:PT1H
BEGIN:VTIMEZONE
TZID:UTC
BEGIN:STANDARD
TZOFFSETFROM:+0000
TZOFFSETTO:+0000
TZNAME:UTC
DTSTART:20230101T000000
END:STANDARD
END:VTIMEZONE
BEGIN:VEVENT
DTSTART;TZID=UTC:20241107T100000
DTEND;TZID=UTC:20241107T120000
DTSTAMP:20260419T160119
CREATED:20240902T134428Z
LAST-MODIFIED:20240902T134428Z
UID:10089957-1730973600-1730980800@investinangus.com
SUMMARY:An Introduction to Canva
DESCRIPTION:Looking to create your own brand images using Canva? This interactive workshop will teach you how to create stunning visuals that make your brand stand out on social media. \nBring your laptop or MacBook and your brand images for a hands-on experience. We’ll cover everything from the basics to more advanced techniques for creating dynamic\, bespoke images for your brand. \nIn this workshop\, we’ll cover: \n\nHow to register for a free Canva.com account\nA walk-through of the platform\, including features and toolbars\nThe importance of fonts\, colours\, and effects for maximum impact\nHow to use Canva design templates and adapt them for your business\nHow to create your own designs from scratch using your own imagery\nHow to insert animation on your photos and text\nHow to create engaging reels\nAn explanation of different types of social media content\nHow to save and download from Canva\nHow to upload to Meta Suite Planner\n\nDon’t miss out. Take control of your brand imagery and create stunning visuals for online use. Book your place now!
URL:https://investinangus.com/event/an-introduction-to-canva/
LOCATION:The Meffan\, 20 West High Street\, Forfar\, DD8 1BB
CATEGORIES:Digital Marketing,Marketing
END:VEVENT
BEGIN:VEVENT
DTSTART;TZID=UTC:20241107T130000
DTEND;TZID=UTC:20241107T150000
DTSTAMP:20260419T160119
CREATED:20241014T094052Z
LAST-MODIFIED:20241014T094052Z
UID:10090073-1730984400-1730991600@investinangus.com
SUMMARY:How to generate and increase sales
DESCRIPTION:Sales are the lifeblood of every business. This webinar focuses on a pragmatic approach to sales strategy and delivery and is designed to fit with the needs of small businesses in both B2C and B2B environments. \nWe will cover: \n\nWhy a clear understanding of what an ideal customer looks like\, and a good understanding of their problems\, needs and wants is key to sales success\nHow to develop your sales platform using digital tools\, platforms\, and techniques\nThe different motivations potential customers may have and how to identify which ‘buttons’ your business needs to press\nThe key phases in prospecting\, qualifying\, and converting sales prospects\nThe value of a ‘sales funnel’ and how it can be used to help plan and achieve sales\nWhy keeping the customers you already have is the best sales strategy of all\nThe importance of appropriate customer service in retaining customers
URL:https://investinangus.com/event/how-to-generate-and-increase-sales-32/
CATEGORIES:Digital Marketing,Marketing
END:VEVENT
END:VCALENDAR