BEGIN:VCALENDAR
VERSION:2.0
PRODID:-//Invest in Angus - ECPv6.15.17.1//NONSGML v1.0//EN
CALSCALE:GREGORIAN
METHOD:PUBLISH
X-WR-CALNAME:Invest in Angus
X-ORIGINAL-URL:https://investinangus.com
X-WR-CALDESC:Events for Invest in Angus
REFRESH-INTERVAL;VALUE=DURATION:PT1H
X-Robots-Tag:noindex
X-PUBLISHED-TTL:PT1H
BEGIN:VTIMEZONE
TZID:UTC
BEGIN:STANDARD
TZOFFSETFROM:+0000
TZOFFSETTO:+0000
TZNAME:UTC
DTSTART:20230101T000000
END:STANDARD
END:VTIMEZONE
BEGIN:VEVENT
DTSTART;TZID=UTC:20241203T130000
DTEND;TZID=UTC:20241203T160000
DTSTAMP:20260419T144745
CREATED:20241125T103041Z
LAST-MODIFIED:20241125T103041Z
UID:10090371-1733230800-1733241600@investinangus.com
SUMMARY:Marketing for your business
DESCRIPTION:Without proper marketing your business cannot have a lasting impact. This bootcamp will help you to identify\, profile and gain a deeper understanding of your target audiences\, how to conduct market research and build a marketing plan. It will also explain brand development and positioning – choosing your price points. \nAgenda: \nMarketing and market research \n\nWhat is Marketing?\nHow to understand your audience using market research\n\nUnderstanding Your Customers and Competition \n\nUnderstanding your competitors\nIdentifying your customers and categorising them\nUnderstanding your customers’ needs and motivations\n\nMarketing Planning\, Pricing and Branding \n\nPricing Considerations\nDeveloping your brand\nDeveloping your message\nDeciding on the best marketing methods for your business\nBudgeting and evaluating
URL:https://investinangus.com/event/marketing-for-your-business/
CATEGORIES:Digital Marketing,Marketing
END:VEVENT
BEGIN:VEVENT
DTSTART;TZID=UTC:20241203T140000
DTEND;TZID=UTC:20241203T160000
DTSTAMP:20260419T144745
CREATED:20241104T101748Z
LAST-MODIFIED:20241104T101748Z
UID:10090211-1733234400-1733241600@investinangus.com
SUMMARY:An introduction to Artificial Intelligence (AI) for small businesses
DESCRIPTION:You’ve heard of Artificial Intelligence\, but do you know how it can help you as you run your business? This practical webinar will explore how AI can help improve your business marketing to be more efficient and cost-effective\, through the automatic creation of content for all your digital platforms; as well as helping you better understand your customers and business opportunities. \nThis webinar will cover: \n\nWhat is Artificial Intelligence\nCurrent AI tools and systems to use right now (including ChatGPT and MidJourney)\nAutomating digital content for blogs and social media\nUsing AI for business strategy and customer profiling\nThe pros and cons of AI for small businesses\n\nThis webinar will help you understand how you can integrate AI into your existing marketing\, looking at the potential consequences (good and bad) of Artificial Intelligence\, and its impact on small businesses and their customers.
URL:https://investinangus.com/event/an-introduction-to-artificial-intelligence-ai-for-small-businesses-8/
CATEGORIES:Digital Marketing,Marketing,Technology
END:VEVENT
END:VCALENDAR