BEGIN:VCALENDAR
VERSION:2.0
PRODID:-//Invest in Angus - ECPv6.15.17.1//NONSGML v1.0//EN
CALSCALE:GREGORIAN
METHOD:PUBLISH
X-ORIGINAL-URL:https://investinangus.com
X-WR-CALDESC:Events for Invest in Angus
REFRESH-INTERVAL;VALUE=DURATION:PT1H
X-Robots-Tag:noindex
X-PUBLISHED-TTL:PT1H
BEGIN:VTIMEZONE
TZID:UTC
BEGIN:STANDARD
TZOFFSETFROM:+0000
TZOFFSETTO:+0000
TZNAME:UTC
DTSTART:20230101T000000
END:STANDARD
END:VTIMEZONE
BEGIN:VEVENT
DTSTART;TZID=UTC:20241204T100000
DTEND;TZID=UTC:20241204T120000
DTSTAMP:20260419T131717
CREATED:20241111T100526Z
LAST-MODIFIED:20241111T100526Z
UID:10090265-1733306400-1733313600@investinangus.com
SUMMARY:How to generate and increase sales
DESCRIPTION:Sales are the lifeblood of every business. This webinar focuses on a pragmatic approach to sales strategy and delivery and is designed to fit with the needs of small businesses in both B2C and B2B environments. \nWe will cover: \n\nWhy a clear understanding of what an ideal customer looks like\, and a good understanding of their problems\, needs and wants is key to sales success\nHow to develop your sales platform using digital tools\, platforms\, and techniques\nThe different motivations potential customers may have and how to identify which ‘buttons’ your business needs to press\nThe key phases in prospecting\, qualifying\, and converting sales prospects\nThe value of a ‘sales funnel’ and how it can be used to help plan and achieve sales\nWhy keeping the customers you already have is the best sales strategy of all\nThe importance of appropriate customer service in retaining customers
URL:https://investinangus.com/event/how-to-generate-and-increase-sales-33/
CATEGORIES:Digital Marketing,Marketing
END:VEVENT
BEGIN:VEVENT
DTSTART;TZID=UTC:20241204T140000
DTEND;TZID=UTC:20241204T160000
DTSTAMP:20260419T131717
CREATED:20241104T101902Z
LAST-MODIFIED:20241104T101902Z
UID:10090213-1733320800-1733328000@investinangus.com
SUMMARY:How to create engaging content
DESCRIPTION:Producing quality content is an excellent way of helping your customers develop a meaningful relationship with your brand\, services and products. In this webinar we will show you how to source and develop a variety of content for your website and social channels. \nThis session is ideal for businesses that already have a business website or use social media and now want to take it a step further\, and develop the skills to show your audience that you are a trusted operator in your field. \nWe will help you: \n\nUnderstand what kind of content your customers are looking for\nSource\, write and deliver that content\nAmplify your brand and message and boost engagement online
URL:https://investinangus.com/event/how-to-create-engaging-content-6/
CATEGORIES:Digital Marketing,Marketing
END:VEVENT
END:VCALENDAR