BEGIN:VCALENDAR
VERSION:2.0
PRODID:-//Invest in Angus - ECPv6.15.17.1//NONSGML v1.0//EN
CALSCALE:GREGORIAN
METHOD:PUBLISH
X-WR-CALNAME:Invest in Angus
X-ORIGINAL-URL:https://investinangus.com
X-WR-CALDESC:Events for Invest in Angus
REFRESH-INTERVAL;VALUE=DURATION:PT1H
X-Robots-Tag:noindex
X-PUBLISHED-TTL:PT1H
BEGIN:VTIMEZONE
TZID:UTC
BEGIN:STANDARD
TZOFFSETFROM:+0000
TZOFFSETTO:+0000
TZNAME:UTC
DTSTART:20230101T000000
END:STANDARD
END:VTIMEZONE
BEGIN:VEVENT
DTSTART;TZID=UTC:20241211T140000
DTEND;TZID=UTC:20241211T160000
DTSTAMP:20260419T122801
CREATED:20241104T102752Z
LAST-MODIFIED:20241104T102752Z
UID:10090223-1733925600-1733932800@investinangus.com
SUMMARY:Photography for digital marketing
DESCRIPTION:During this webinar you will: \n\nDiscover the basic ‘dos and don’ts’ of taking your own pictures\, editing them and uploading them onto digital platforms\nSee some real-life examples of posts that demonstrate good\, bad and indifferent use for businesses
URL:https://investinangus.com/event/photography-for-digital-marketing-4/
CATEGORIES:Digital Marketing,Marketing
END:VEVENT
END:VCALENDAR