BEGIN:VCALENDAR
VERSION:2.0
PRODID:-//Invest in Angus - ECPv6.15.17.1//NONSGML v1.0//EN
CALSCALE:GREGORIAN
METHOD:PUBLISH
X-ORIGINAL-URL:https://investinangus.com
X-WR-CALDESC:Events for Invest in Angus
REFRESH-INTERVAL;VALUE=DURATION:PT1H
X-Robots-Tag:noindex
X-PUBLISHED-TTL:PT1H
BEGIN:VTIMEZONE
TZID:UTC
BEGIN:STANDARD
TZOFFSETFROM:+0000
TZOFFSETTO:+0000
TZNAME:UTC
DTSTART:20250101T000000
END:STANDARD
END:VTIMEZONE
BEGIN:VEVENT
DTSTART;TZID=UTC:20260323T100000
DTEND;TZID=UTC:20260323T160000
DTSTAMP:20260419T181119
CREATED:20260312T144042Z
LAST-MODIFIED:20260312T144535Z
UID:10093599-1774260000-1774281600@investinangus.com
SUMMARY:Meet the Advisor - Marketing Surgery
DESCRIPTION:Whether you’d like to discuss market research\, marketing strategy or would even just like an impartial review of your website or social media page\, this is an opportunity to book a one to one appoint over Zoom with our marketing specialist\, Stuart Milne. \nAfter you have booked your space\, a member of our team will reach out to arrange a time for your 1-2-1 appointment\, these appointments can happen in person or via Zoom. \nThese appointments are for businesses based in Dundee\, Angus or Perth.
URL:https://investinangus.com/event/meet-the-advisor-marketing-surgery/
LOCATION:Business Gateway Arbroath\, Unit 9 Harbour Visitor Centre\, Arbroath\, DD11 1PS
CATEGORIES:Marketing
END:VEVENT
END:VCALENDAR