BEGIN:VCALENDAR
VERSION:2.0
PRODID:-//Invest in Angus - ECPv6.15.17.1//NONSGML v1.0//EN
CALSCALE:GREGORIAN
METHOD:PUBLISH
X-ORIGINAL-URL:https://investinangus.com
X-WR-CALDESC:Events for Invest in Angus
REFRESH-INTERVAL;VALUE=DURATION:PT1H
X-Robots-Tag:noindex
X-PUBLISHED-TTL:PT1H
BEGIN:VTIMEZONE
TZID:UTC
BEGIN:STANDARD
TZOFFSETFROM:+0000
TZOFFSETTO:+0000
TZNAME:UTC
DTSTART:20250101T000000
END:STANDARD
END:VTIMEZONE
BEGIN:VEVENT
DTSTART;TZID=UTC:20260325T140000
DTEND;TZID=UTC:20260325T150000
DTSTAMP:20260419T144951
CREATED:20260312T155446Z
LAST-MODIFIED:20260312T155446Z
UID:10093668-1774447200-1774450800@investinangus.com
SUMMARY:AI for the camera-shy: Creating video content without ever filming yourself
DESCRIPTION:Video is one of the most effective ways to attract customers\, but many small business owners feel uncomfortable appearing on camera or simply don’t have the time\, space or confidence to film themselves. \nThanks to recent advances in AI\, it’s now possible to create professional video content without ever turning on a camera. From AI avatars and video generation to realistic voiceovers\, these tools make video marketing more accessible than ever. \nJoin this free Tech Hub webinar to discover how your small business can use AI tools to create engaging video content without filming yourself. \nYou’ll see live demonstrations of AI video\, avatar and voiceover tools\, and learn how you can use them for marketing\, social media and customer communication. \nWhether you’re camera-shy\, short on time or just curious about AI\, this session will give you practical ideas and confidence to start using video in a way that suits you. \nWhat you’ll learn: \n\nWhy video still matters: How video content builds trust and visibility\, even without appearing on screen\nAI can support your visibility: But real trust and connection still comes from humans\nAI video generation: Creating videos from text\, images or prompts in minutes\nUsing AI avatars: How virtual presenters can represent your business professionally\nVoiceover made easy: Turning scripts into natural-sounding audio without recording yourself\nPractical use cases: Ideas for social posts\, product explainers\, promotions and updates using AI tools
URL:https://investinangus.com/event/ai-for-the-camera-shy-creating-video-content-without-ever-filming-yourself/
CATEGORIES:Marketing,Technology
END:VEVENT
END:VCALENDAR