BEGIN:VCALENDAR
VERSION:2.0
PRODID:-//Invest in Angus - ECPv6.15.17.1//NONSGML v1.0//EN
CALSCALE:GREGORIAN
METHOD:PUBLISH
X-ORIGINAL-URL:https://investinangus.com
X-WR-CALDESC:Events for Invest in Angus
REFRESH-INTERVAL;VALUE=DURATION:PT1H
X-Robots-Tag:noindex
X-PUBLISHED-TTL:PT1H
BEGIN:VTIMEZONE
TZID:UTC
BEGIN:STANDARD
TZOFFSETFROM:+0000
TZOFFSETTO:+0000
TZNAME:UTC
DTSTART:20240101T000000
END:STANDARD
END:VTIMEZONE
BEGIN:VEVENT
DTSTART;TZID=UTC:20250911T093000
DTEND;TZID=UTC:20250911T113000
DTSTAMP:20260419T144817
CREATED:20250818T120620Z
LAST-MODIFIED:20250818T120620Z
UID:10091760-1757583000-1757590200@investinangus.com
SUMMARY:Dundee & Angus Chamber of Commerce International Members Group
DESCRIPTION:The group welcomes anyone currently involved in international trade and those who would like to learn more about global commerce\, offering opportunities to engage in conversations on various topics related to global trade. \nDuring the event\, you’ll hear from MacIntyre Chocolate Systems\, and there’ll be time for networking with other international traders to discuss common challenges. Towards the end of the event\, there’ll be an opportunity to tour the factory. \nYour insights\, ideas\, and plans for your business are valuable to us\, and this event will provide a platform for you to share them. Additionally\, you’ll have the chance to interact with our International Team\, who will be available to address any questions or concerns you may have. We look forward to your participation and collaboration as we shape the future of the IMG together.
URL:https://investinangus.com/event/dundee-angus-chamber-of-commerce-international-members-group/
LOCATION:MacIntyre Chocolate Systems\, Kirkton Industrial Estate\, Arbroath\, DD11 3RD
CATEGORIES:International Trade,Networking
END:VEVENT
BEGIN:VEVENT
DTSTART;TZID=UTC:20250911T103000
DTEND;TZID=UTC:20250911T133000
DTSTAMP:20260419T144817
CREATED:20250818T121105Z
LAST-MODIFIED:20250818T121105Z
UID:10091762-1757586600-1757597400@investinangus.com
SUMMARY:Young Professionals in Heritage - Networking Workshop
DESCRIPTION:Come join Historic Environment Scotland at Made In Stirling on 11 September for a morning of networking and learning. \nThis event is perfect for young people in the heritage sector looking to dymystify networking and boost confidence. Share your experiences\, gain insights\, and expand your network! \nTea\, coffee and cake will be provided. \nDon’t miss this opportunity to meet like-minded individuals and build valuable connections. See you there!
URL:https://investinangus.com/event/young-professionals-in-heritage-networking-workshop/
CATEGORIES:Networking
END:VEVENT
END:VCALENDAR