BEGIN:VCALENDAR
VERSION:2.0
PRODID:-//Invest in Angus - ECPv6.15.17.1//NONSGML v1.0//EN
CALSCALE:GREGORIAN
METHOD:PUBLISH
X-WR-CALNAME:Invest in Angus
X-ORIGINAL-URL:https://investinangus.com
X-WR-CALDESC:Events for Invest in Angus
REFRESH-INTERVAL;VALUE=DURATION:PT1H
X-Robots-Tag:noindex
X-PUBLISHED-TTL:PT1H
BEGIN:VTIMEZONE
TZID:UTC
BEGIN:STANDARD
TZOFFSETFROM:+0000
TZOFFSETTO:+0000
TZNAME:UTC
DTSTART:20210101T000000
END:STANDARD
END:VTIMEZONE
BEGIN:VEVENT
DTSTART;TZID=UTC:20220217T100000
DTEND;TZID=UTC:20220217T113000
DTSTAMP:20260419T213625
CREATED:20220124T095244Z
LAST-MODIFIED:20220124T095244Z
UID:10083991-1645092000-1645097400@investinangus.com
SUMMARY:How best to attract and retain the staff you need
DESCRIPTION:In the UK\, job vacancies recently surpassed one million for the first time ever\, proving that it’s a candidate’s market.  Not only that but surveys indicate that over 40% of the global workforce are considering leaving their employers this year\, and this presents employers like you with two major challenges: \n\nHow best to retain and engage the talent you already have\nHow best to attract and recruit candidates when everyone else is trying to do the same. It’s a very competitive world.\n\nIn this 90 minute virtual webinar\, we’ll; \n\nUnderstand how you can best manage retention risks and retain talent in your organisation\nExplore ways to differentiate your ‘employee value proposition’ to make working for you as attractive as possible\nShare ways to make your job opportunities stand out from the crowd in a competitive market\nConsider a range of hiring strategies to enable you to tap into alternative sources of talent
URL:https://investinangus.com/event/how-best-to-attract-and-retain-the-staff-you-need/
CATEGORIES:HR,Recruitment
END:VEVENT
BEGIN:VEVENT
DTSTART;TZID=UTC:20220225T130000
DTEND;TZID=UTC:20220225T143000
DTSTAMP:20260419T213625
CREATED:20220124T113638Z
LAST-MODIFIED:20220124T113638Z
UID:10083995-1645794000-1645799400@investinangus.com
SUMMARY:How to Utilise Business Support from the Education Sector
DESCRIPTION:There is a wealth of support available to Tayside businesses from the local education sector. Come along to our online session to find out more\, where we’ll be hearing from representatives from Abertay University\, the University of Dundee\, the University of Stirling\, Perth College and Dundee & Angus College. \nTopics covered will include support available with: \n\nBusiness development\nApprenticeships\nShort-term placements\nBusiness programmes\nEvents\nResearch needs\nStaff development\n\nThe session will finish with a Q&A where local businesses will have the opportunity to raise issues specific to their business.
URL:https://investinangus.com/event/how-to-utilise-business-support-from-the-education-sector/
CATEGORIES:Business Planning,Recruitment
END:VEVENT
END:VCALENDAR