BEGIN:VCALENDAR
VERSION:2.0
PRODID:-//Invest in Angus - ECPv6.15.17.1//NONSGML v1.0//EN
CALSCALE:GREGORIAN
METHOD:PUBLISH
X-WR-CALNAME:Invest in Angus
X-ORIGINAL-URL:https://investinangus.com
X-WR-CALDESC:Events for Invest in Angus
REFRESH-INTERVAL;VALUE=DURATION:PT1H
X-Robots-Tag:noindex
X-PUBLISHED-TTL:PT1H
BEGIN:VTIMEZONE
TZID:UTC
BEGIN:STANDARD
TZOFFSETFROM:+0000
TZOFFSETTO:+0000
TZNAME:UTC
DTSTART:20210101T000000
END:STANDARD
END:VTIMEZONE
BEGIN:VEVENT
DTSTART;TZID=UTC:20220511T093000
DTEND;TZID=UTC:20220511T113000
DTSTAMP:20260423T093415
CREATED:20220502T132726Z
LAST-MODIFIED:20220502T132726Z
UID:10084536-1652261400-1652268600@investinangus.com
SUMMARY:IT Management Graduate Apprenticeships - Developing the skills of your workforce at no additional cost
DESCRIPTION:Let us help you to develop the IT skills of your workforce at no additional cost \nInformation Technology\, or IT\, is all around us. From interacting with customers and processing invoices to checking your email and updating your website\, there is a good chance that IT plays a pivotal role in your business. \nOur reliance on IT has soared over the last year\, and it is very likely that every single employee within your business now uses varying levels of IT daily. With more and more consumers and businesses moving online\, this reliance is only going to increase. \nIn order to keep up with this demand\, we would like to help you to invest in the development of your workforce’s IT knowledge\, skills and experience at no additional cost to your business. \nHow does it work? \nOur fully funded Graduate Apprenticeship Programme gives you the opportunity to develop current or new members of your workforce (of all ages) to honours degree level at no additional cost to your business. \nWe have fully funded and easily accessible places available on five different courses: \n\nIT Management for Business\nIT Software Development\nBusiness Management\nCivil Engineering\nEngineering\, Design and Manufacturing\n\nGraduate Apprentices spend one day a week studying at the University and the remaining four days of the week working in their role. At the end of four years they will receive the same level of degree as a student studying full time. \nThe application process is simple and easy and there is no mountain of paperwork to complete. \nJoin us at our IT event \nIf you would like to find out how our IT Management for Business Graduate Apprenticeship course can help you to develop the knowledge\, skills and experience of your workforce whilst helping your business grow\, then join us on Wednesday 11 May. \nNot only will you hear from our Industrial Liaison Officer Wayne Paul and our IT Graduate Apprenticeship Lecturers\, you will also hear from both employers and apprentices who are currently using the programme\, so you can find out about their experience first-hand and the benefits the programme can bring to your business.
URL:https://investinangus.com/event/it-management-graduate-apprenticeships-developing-the-skills-of-your-workforce-at-no-additional-cost/
CATEGORIES:Business Planning,HR,Recruitment
END:VEVENT
BEGIN:VEVENT
DTSTART;TZID=UTC:20220511T110000
DTEND;TZID=UTC:20220511T120000
DTSTAMP:20260423T093415
CREATED:20220502T132819Z
LAST-MODIFIED:20220502T132819Z
UID:10084538-1652266800-1652270400@investinangus.com
SUMMARY:Business Management Graduate Apprenticeships - Developing the skills of your workforce at no additional cost
DESCRIPTION:Let us help you to develop the Business Management skills of your workforce (of all ages) at no additional cost to your business \nJoin us on Wednesday 11 May to find out how our fully funded Business Management Graduate Apprenticeship Course can help you to develop the knowledge\, skills\, and experience of your workforce\, whilst helping your business grow. \nAt the event\, you will hear from both apprentices and employers who are currently utilising our Graduate Apprenticeship Programme\, so you can find out about their experience first-hand and the benefits the programme can bring to your business. \nYou will also hear from our Industrial Liaison Officer Wayne Paul\, along with some of our Business Management Lecturers\, so you can find out everything you need to know about our Graduate Apprenticeship Programme\, and how it can help you to develop your talent\, boost your performance\, and grow your business. \nHow does it work? \nOur fully funded Graduate Apprenticeship Programme gives you the opportunity to develop current or new members of your workforce (of all ages) to honours degree level at no additional cost to your business. \nWe have fully funded and easily accessible places available on five different courses: \n\nBusiness Management\nIT Management for Business\nIT Software Development\nCivil Engineering\nEngineering\, Design and Manufacturing\n\nGraduate Apprentices spend one day a week studying at the University and the remaining four days of the week working in their role. At the end of four years they will receive the same level of degree as a student studying full time. \nThe application process is simple and easy and there is no mountain of paperwork to complete.
URL:https://investinangus.com/event/business-management-graduate-apprenticeships-developing-the-skills-of-your-workforce-at-no-additional-cost/
CATEGORIES:Business Planning,HR,Recruitment
END:VEVENT
BEGIN:VEVENT
DTSTART;TZID=UTC:20220511T130000
DTEND;TZID=UTC:20220511T140000
DTSTAMP:20260423T093415
CREATED:20220502T132911Z
LAST-MODIFIED:20220502T132911Z
UID:10084540-1652274000-1652277600@investinangus.com
SUMMARY:Civil Engineering Graduate Apprenticeships - Developing the skills of your workforce at no additional cost
DESCRIPTION:Let us help you to develop the Civil Engineering skills of your workforce (of all ages) at no additional cost to your business \nJoin us on Wednesday 11 May to find out how our fully funded Civil Engineering Graduate Apprenticeship Course can help you to develop the knowledge\, skills\, and experience of your workforce\, whilst helping your business grow. \nAt the event\, you will hear from both apprentices and employers who are currently utilising our Graduate Apprenticeship Programme\, so you can find out about their experience first-hand and the benefits the programme can bring to your business. \nYou will also hear from our Industrial Liaison Officer Wayne Paul\, along with some of our Civil Engineering Lecturers\, so you can find out everything you need to know about our Graduate Apprenticeship Programme\, and how it can help you to develop your talent\, boost your performance\, and grow your business. \nHow does it work? \nOur fully funded Graduate Apprenticeship Programme gives you the opportunity to develop current or new members of your workforce (of all ages) to honours degree level at no additional cost to your business. \nWe have fully funded and easily accessible places available on five different courses: \n\nBusiness Management\nIT Management for Business\nIT Software Development\nCivil Engineering\nEngineering\, Design and Manufacturing\n\nGraduate Apprentices spend one day a week studying at the University and the remaining four days of the week working in their role. At the end of four years they will receive the same level of degree as a student studying full time. \nThe application process is simple and easy and there is no mountain of paperwork to complete.
URL:https://investinangus.com/event/civil-engineering-graduate-apprenticeships-developing-the-skills-of-your-workforce-at-no-additional-cost/
CATEGORIES:Business Planning,HR,Recruitment
END:VEVENT
BEGIN:VEVENT
DTSTART;TZID=UTC:20220512T100000
DTEND;TZID=UTC:20220512T110000
DTSTAMP:20260423T093415
CREATED:20220502T132959Z
LAST-MODIFIED:20220502T132959Z
UID:10084542-1652349600-1652353200@investinangus.com
SUMMARY:IT Software Development Graduate Apprenticeships - Developing the skills of your workforce at no additional cost
DESCRIPTION:Let us help you to develop the IT software development skills of your workforce at no additional cost \nAs we look to the future\, now is the time to think about the development needs of your workforce. \nJoin us to find out how our fully funded IT Software Development Graduate Apprenticeship can help you to develop the knowledge\, skills\, and experience of your workforce\, whilst helping your business grow. \nWith fully funded courses available in Business Management\, IT Management for Business\, IT Software Development\, Civil Engineering\, and Engineering\, Design and Manufacturing\, we can help you develop employees from across your business. \nAt the event\, you will hear from both apprentices and employers who are currently utilising our Graduate Apprenticeship Programme\, so you can find out about their experience first-hand and the benefits the programme can bring to your business. \nYou will also hear from our Industrial Liaison Officer Wayne Paul\, along with some of our lecturers\, so you can find out everything you need to know about our IT Software Development Graduate Apprenticeship\, and how it can help you to develop your talent\, boost your performance\, and grow your business. \nHow does it work? \nOur fully funded Graduate Apprenticeship Programme gives you the opportunity to develop current or new members of your workforce (of all ages) to honours degree level at no additional cost to your business. \nWe have fully funded and easily accessible places available on five different courses: \n\nIT Management for Business\nIT Software Development\nBusiness Management\nCivil Engineering\nEngineering\, Design and Manufacturing\n\nGraduate Apprentices spend one day a week studying at the University and the remaining four days of the week working in their role. At the end of four years they will receive the same level of degree as a student studying full time. \nThe application process is simple and easy and there is no mountain of paperwork to complete.
URL:https://investinangus.com/event/it-software-development-graduate-apprenticeships-developing-the-skills-of-your-workforce-at-no-additional-cost/
CATEGORIES:Business Planning,HR,Recruitment
END:VEVENT
BEGIN:VEVENT
DTSTART;TZID=UTC:20220512T100000
DTEND;TZID=UTC:20220512T110000
DTSTAMP:20260423T093415
CREATED:20220502T133144Z
LAST-MODIFIED:20220502T133144Z
UID:10084544-1652349600-1652353200@investinangus.com
SUMMARY:Engineering\, Design and Manufacturing Graduate Apprenticeships - Developing the skills of your workforce at no additional cost
DESCRIPTION:Let us help you to develop the Engineering\, Design and Manufacturing skills of your workforce (of all ages) at no additional cost to your business \nJoin us on Thursday 12 May to find out how our fully funded Engineering\, Design and Manufacturing Graduate Apprenticeship Course can help you to develop the knowledge\, skills\, and experience of your workforce\, whilst helping your business grow. \nAt the event\, you will hear from both apprentices and employers who are currently utilising our Graduate Apprenticeship Programme\, so you can find out about their experience first-hand and the benefits the programme can bring to your business. \nYou will also hear from our Industrial Liaison Officer Wayne Paul\, along with some of our Engineering Lecturers\, so you can find out everything you need to know about our Graduate Apprenticeship Programme\, and how it can help you to develop your talent\, boost your performance\, and grow your business. \nHow does it work? \nOur fully funded Graduate Apprenticeship Programme gives you the opportunity to develop current or new members of your workforce (of all ages) to honours degree level at no additional cost to your business. \nWe have fully funded and easily accessible places available on five different courses: \n\nCivil Engineering\nEngineering\, Design and Manufacturing\nBusiness Management\nIT Management for Business\nIT Software Development\n\nGraduate Apprentices spend one day a week studying at the University and the remaining four days of the week working in their role. At the end of four years they will receive the same level of degree as a student studying full time. \nThe application process is simple and easy and there is no mountain of paperwork to complete.
URL:https://investinangus.com/event/engineering-design-and-manufacturing-graduate-apprenticeships-developing-the-skills-of-your-workforce-at-no-additional-cost/
CATEGORIES:Business Planning,HR,Recruitment
END:VEVENT
BEGIN:VEVENT
DTSTART;TZID=UTC:20220531T100000
DTEND;TZID=UTC:20220531T110000
DTSTAMP:20260423T093415
CREATED:20220502T133235Z
LAST-MODIFIED:20220502T133235Z
UID:10084546-1653991200-1653994800@investinangus.com
SUMMARY:Developing your workforce
DESCRIPTION:Find out how the fully funded Graduate Apprenticeship Programme can help you to develop the skills of you and/or your workforce (of all ages)\, at no additional cost to your business. \nSpeakers \nWayne Paul\, Engagement Manager\, University of Dundee \nFiona McMillan\, Business Engagement Officer\, University of Stirling \nAlso hear from a employer and apprentice (tbc) \nMore Information \nJoin us to find out how the fully funded Graduate Apprenticeship Programme can help you to develop the knowledge\, skills\, and experience of your workforce\, whilst helping your business grow. \nWith fully funded honours degree courses available to current and new employees (of all ages) in Business Management\, IT Management for Business\, IT Software Development\, Data Science\, Civil Engineering\, and Engineering\, Design and Manufacturing\, we can help you develop employees from across your business. \nAt the event\, you will hear from the University of Dundee’s Engagement Manager Wayne Paul\, and the University of Stirling’s Business Engagement Manager Fiona McMillan\, where you will find out everything you need to know about the Graduate Apprenticeship Programme and how it can help you to develop your talent\, boost your performance\, and grow your business. \nYou will also hear from an apprentice and employer\, so you can find out about their experience first-hand and the benefits the programme can bring to your business. \nHow does it work? \nThe fully funded Graduate Apprenticeship Programme gives you the opportunity to develop current or new members of your workforce (of all ages) to honours degree level at no additional cost to your business. \nThere are fully funded and easily accessible places available on six different courses: \nBusiness Management (University of Dundee)\nIT Management for Business (University of Dundee)\nIT Software Development (University of Dundee)\nData Science (University of Stirling)\nCivil Engineering (University of Dundee)\nEngineering\, Design and Manufacturing (University of Dundee) \nGraduate Apprentices spend one day a week studying at the University and the remaining four days of the week working in their role. At the end of four years they will leave with a full honours degree. \nThe application process is simple and easy and there is no mountain of paperwork to complete.
URL:https://investinangus.com/event/developing-your-workforce/
CATEGORIES:Business Planning,HR,Recruitment
END:VEVENT
END:VCALENDAR