BEGIN:VCALENDAR
VERSION:2.0
PRODID:-//Invest in Angus - ECPv6.15.17.1//NONSGML v1.0//EN
CALSCALE:GREGORIAN
METHOD:PUBLISH
X-WR-CALNAME:Invest in Angus
X-ORIGINAL-URL:https://investinangus.com
X-WR-CALDESC:Events for Invest in Angus
REFRESH-INTERVAL;VALUE=DURATION:PT1H
X-Robots-Tag:noindex
X-PUBLISHED-TTL:PT1H
BEGIN:VTIMEZONE
TZID:UTC
BEGIN:STANDARD
TZOFFSETFROM:+0000
TZOFFSETTO:+0000
TZNAME:UTC
DTSTART:20210101T000000
END:STANDARD
END:VTIMEZONE
BEGIN:VEVENT
DTSTART;TZID=UTC:20221013T120000
DTEND;TZID=UTC:20221013T130000
DTSTAMP:20260419T071304
CREATED:20220926T142838Z
LAST-MODIFIED:20220926T142838Z
UID:10085572-1665662400-1665666000@investinangus.com
SUMMARY:Healthy Working Lives - Attract and Retain Staff
DESCRIPTION:This event will focus on topics within the workplace (flexibility\, mental health\, etc). You’ll be made aware of potential issues\, solutions through the support available\, and benefits of implementing such policies. \nThrough our interview-style event\, Healthy Working Lives will explain the latest trends they are seeing in the workplace. The floor will then be opened for attendees to have the opportunity to ask the experts their own questions. \nYou’ll leave this event with a new resource for information\, in Healthy Working Lives\, that you can utilise for future guidance.
URL:https://investinangus.com/event/healthy-working-lives-attract-and-retain-staff-2/
CATEGORIES:HR,Recruitment
END:VEVENT
END:VCALENDAR