BEGIN:VCALENDAR
VERSION:2.0
PRODID:-//Invest in Angus - ECPv6.15.17.1//NONSGML v1.0//EN
CALSCALE:GREGORIAN
METHOD:PUBLISH
X-WR-CALNAME:Invest in Angus
X-ORIGINAL-URL:https://investinangus.com
X-WR-CALDESC:Events for Invest in Angus
REFRESH-INTERVAL;VALUE=DURATION:PT1H
X-Robots-Tag:noindex
X-PUBLISHED-TTL:PT1H
BEGIN:VTIMEZONE
TZID:UTC
BEGIN:STANDARD
TZOFFSETFROM:+0000
TZOFFSETTO:+0000
TZNAME:UTC
DTSTART:20220101T000000
END:STANDARD
END:VTIMEZONE
BEGIN:VEVENT
DTSTART;TZID=UTC:20230117T143000
DTEND;TZID=UTC:20230117T153000
DTSTAMP:20260422T060120
CREATED:20221206T102108Z
LAST-MODIFIED:20221206T102108Z
UID:10086014-1673965800-1673969400@investinangus.com
SUMMARY:Skilled worker route - How employers can sponsor international talent
DESCRIPTION:With most EU and non-EU citizens now subject to the UK immigration system\, we invite you to join us as we discuss how the Skilled Worker route can help you to access overseas talent. \nAs a Scottish based SME\, TalentScotland can support your business in a number of ways.
URL:https://investinangus.com/event/skilled-worker-route-how-employers-can-sponsor-international-talent-3/
CATEGORIES:HR,Recruitment
END:VEVENT
BEGIN:VEVENT
DTSTART;TZID=UTC:20230119T143000
DTEND;TZID=UTC:20230119T153000
DTSTAMP:20260422T060120
CREATED:20221206T102211Z
LAST-MODIFIED:20221206T102211Z
UID:10086016-1674138600-1674142200@investinangus.com
SUMMARY:An update on 'Right to Work' checks
DESCRIPTION:Covid-19 right to work measures are ending on 30 September 2022. In this webinar\, TalentScotland will look at how employers in Scotland can continue to perform right to work checks after this date. \nThis webinar is presented by Brodies LLP\, TalentScotland’s immigration specialists\, and you’ll have the opportunity to have any questions you might have.
URL:https://investinangus.com/event/an-update-on-right-to-work-checks-2/
CATEGORIES:HR,Recruitment
END:VEVENT
BEGIN:VEVENT
DTSTART;TZID=UTC:20230123T100000
DTEND;TZID=UTC:20230123T110000
DTSTAMP:20260422T060120
CREATED:20230109T104924Z
LAST-MODIFIED:20230109T104924Z
UID:10086179-1674468000-1674471600@investinangus.com
SUMMARY:Innovative Strategies to Attract and Keep The Best Talent
DESCRIPTION:Attracting the right talent and retaining it is paramount to business success. \nIn this webinar\, The Conference Board will explore the key themes that organisations should consider when it comes to stimulating innovative approaches to broaden the talent pool and anchor existing talent. \nThese themes will include: \n\nAlternative sources of labour to widen the talent pool and achieve greater\ndiversity in the workforce\nChallenging recruitment bias in current processes\nRethinking employee value propositions and employer branding\, with consideration of workers’ varying expectations\nRetention and recruitment strategies and how these interlink
URL:https://investinangus.com/event/innovative-strategies-to-attract-and-keep-the-best-talent/
CATEGORIES:Business Planning,HR,Recruitment
END:VEVENT
BEGIN:VEVENT
DTSTART;TZID=UTC:20230124T113000
DTEND;TZID=UTC:20230124T133000
DTSTAMP:20260422T060120
CREATED:20230123T100634Z
LAST-MODIFIED:20230123T100634Z
UID:10086255-1674559800-1674567000@investinangus.com
SUMMARY:HR – Recruiting\, managing\, and retaining staff
DESCRIPTION:One of the scariest things you can do as a business is take on staff – from hiring\, interviewing\, payroll\, pensions\, contracts\, remote working and more\, it is a minefield for the business owner. \nThis webinar will allow you to have the key information in your possession to take on staff and manage your team. \nTopics covered: \n\nRecruiting\, managing\, and retaining staff\nAttracting and recruiting the best and right people for our business\nOur obligations as employers\nManaging people to stay with us\nMoving on\nDismissal\nRestructure/Redundancy\n\nWe will also look at: \n\nHow in the current climate you can manage staff and teams in a remote environment\, considering their productivity\, efficiency\, and the issues of home working\nHow you can best manage staff to ensure productivity is kept and mental health is supported\nThe impact of companies who may be considering restructuring and therefore redundancy for the first time and how that can be managed
URL:https://investinangus.com/event/hr-recruiting-managing-and-retaining-staff-8/
CATEGORIES:HR,Recruitment
END:VEVENT
BEGIN:VEVENT
DTSTART;TZID=UTC:20230124T143000
DTEND;TZID=UTC:20230124T153000
DTSTAMP:20260422T060120
CREATED:20221206T102304Z
LAST-MODIFIED:20221206T102304Z
UID:10086018-1674570600-1674574200@investinangus.com
SUMMARY:Scale-Up Visa Route
DESCRIPTION:The government has recently introduced the Scale-Up visa route\, which gives certain employers another visa option to help access international talent. \nJoin us to learn more about this new route and how it could help you access international talent.
URL:https://investinangus.com/event/scale-up-visa-route-3/
CATEGORIES:HR,Recruitment
END:VEVENT
BEGIN:VEVENT
DTSTART;TZID=UTC:20230125T143000
DTEND;TZID=UTC:20230125T153000
DTSTAMP:20260422T060120
CREATED:20221206T102400Z
LAST-MODIFIED:20221206T102400Z
UID:10086020-1674657000-1674660600@investinangus.com
SUMMARY:Latest updates on the low cost visa routes
DESCRIPTION:There are lots of low-cost visa routes under the UK’s points-based system. \nJoin TalentScotland for an update on affordable visa options\, including the Graduate\, High Potential Individual and Youth Mobility routes.
URL:https://investinangus.com/event/latest-updates-on-the-low-cost-visa-routes-2/
CATEGORIES:HR,Recruitment
END:VEVENT
BEGIN:VEVENT
DTSTART;TZID=UTC:20230131T110000
DTEND;TZID=UTC:20230131T120000
DTSTAMP:20260422T060120
CREATED:20230109T110031Z
LAST-MODIFIED:20230109T110031Z
UID:10086188-1675162800-1675166400@investinangus.com
SUMMARY:An update on 'Right to Work' checks
DESCRIPTION:Covid-19 right to work measures are ending on 30 September 2022. In this webinar\, TalentScotland will look at how employers in Scotland can continue to perform right to work checks after this date. \nThis webinar is presented by Brodies LLP\, TalentScotland’s immigration specialists\, and you’ll have the opportunity to have any questions you might have.
URL:https://investinangus.com/event/an-update-on-right-to-work-checks-3/
CATEGORIES:HR,Recruitment
END:VEVENT
END:VCALENDAR