BEGIN:VCALENDAR
VERSION:2.0
PRODID:-//Invest in Angus - ECPv6.15.17.1//NONSGML v1.0//EN
CALSCALE:GREGORIAN
METHOD:PUBLISH
X-WR-CALNAME:Invest in Angus
X-ORIGINAL-URL:https://investinangus.com
X-WR-CALDESC:Events for Invest in Angus
REFRESH-INTERVAL;VALUE=DURATION:PT1H
X-Robots-Tag:noindex
X-PUBLISHED-TTL:PT1H
BEGIN:VTIMEZONE
TZID:UTC
BEGIN:STANDARD
TZOFFSETFROM:+0000
TZOFFSETTO:+0000
TZNAME:UTC
DTSTART:20220101T000000
END:STANDARD
END:VTIMEZONE
BEGIN:VEVENT
DTSTART;TZID=UTC:20231004T100000
DTEND;TZID=UTC:20231004T113000
DTSTAMP:20260420T202603
CREATED:20230925T093224Z
LAST-MODIFIED:20230925T093224Z
UID:10087978-1696413600-1696419000@investinangus.com
SUMMARY:Recruitment Excellence: Strategies for Success
DESCRIPTION:Across all sectors and sizes of company\, recruiting and keeping the right people is one of the greatest challenges businesses face. \nThis 90-minute masterclass webinar (hosted by Taylor Clarke) will explore the most effective ways to plan for your recruitment and to ensure that you attract and retain the right talent. \nYou’ll learn about emerging best practices from across the public and private sectors. You’ll also get a chance to reflect on areas you would like to improve in your business’s recruitment processes. \nThe masterclass will explore: \n\nThe importance of considering your future workforce skills requirements\nDeveloping a strong employer brand\nHow to attract the people that will help your business thrive\nThe most effective ways to ensure that your recruitment process encourages candidates to accept your offer – and creates the foundation for an emotional connection to your business that makes them want to stay\n\nThe masterclass will be followed by the opportunity to attend an interactive workshop. \nIn this workshop\, the key themes related to recruitment and retention of talent will be explored further and you’ll get a chance to discuss your specific business challenges with the masterclass hosts.
URL:https://investinangus.com/event/recruitment-excellence-strategies-for-success/
CATEGORIES:Recruitment
END:VEVENT
END:VCALENDAR