BEGIN:VCALENDAR
VERSION:2.0
PRODID:-//Invest in Angus - ECPv6.15.17.1//NONSGML v1.0//EN
CALSCALE:GREGORIAN
METHOD:PUBLISH
X-ORIGINAL-URL:https://investinangus.com
X-WR-CALDESC:Events for Invest in Angus
REFRESH-INTERVAL;VALUE=DURATION:PT1H
X-Robots-Tag:noindex
X-PUBLISHED-TTL:PT1H
BEGIN:VTIMEZONE
TZID:UTC
BEGIN:STANDARD
TZOFFSETFROM:+0000
TZOFFSETTO:+0000
TZNAME:UTC
DTSTART:20210101T000000
END:STANDARD
END:VTIMEZONE
BEGIN:VEVENT
DTSTART;TZID=UTC:20220307T100000
DTEND;TZID=UTC:20220307T110000
DTSTAMP:20260423T182634
CREATED:20220228T103057Z
LAST-MODIFIED:20220228T103057Z
UID:10084227-1646647200-1646650800@investinangus.com
SUMMARY:Apprenticeships work for your business
DESCRIPTION:Employers that want to find new talent\, develop their workforce and build skills they need now\, for a sustainable future should join this one hour webinar to find out how apprenticeships can offer the solution. \n• Hear from other employers and their apprentices about the benefits of apprenticeships\n• Find out from experts about the practical support available to recruit or upskill existing employees through apprenticeships\n• Learn how Foundation\, Modern and Graduate Apprenticeships can support employee progression and skills development \nThis event is for employers of all sizes and sectors across Scotland to find out how Scottish Apprenticeships can work for their business. \nPanelists include Scottish Power Energy Networks\, Sitekit\, Pulsion Technology and West Highland College UHI. \nHosted by the Scottish Apprenticeship Advisory Board\, in partnership with Scottish Training Federation\, Scottish Chamber of Commerce\, Federation of Small Businesses Scotland and Skills Development Scotland. \nScottish Apprenticeships are backed by the Scottish Government and play a key role in its work to support Scotland’s people and the economy\, including the Young Person’s Guarantee.
URL:https://investinangus.com/event/apprenticeships-work-for-your-business/
CATEGORIES:HR,Recruitment
END:VEVENT
END:VCALENDAR