BEGIN:VCALENDAR
VERSION:2.0
PRODID:-//Invest in Angus - ECPv6.15.17.1//NONSGML v1.0//EN
CALSCALE:GREGORIAN
METHOD:PUBLISH
X-ORIGINAL-URL:https://investinangus.com
X-WR-CALDESC:Events for Invest in Angus
REFRESH-INTERVAL;VALUE=DURATION:PT1H
X-Robots-Tag:noindex
X-PUBLISHED-TTL:PT1H
BEGIN:VTIMEZONE
TZID:UTC
BEGIN:STANDARD
TZOFFSETFROM:+0000
TZOFFSETTO:+0000
TZNAME:UTC
DTSTART:20210101T000000
END:STANDARD
END:VTIMEZONE
BEGIN:VEVENT
DTSTART;TZID=UTC:20220308T100000
DTEND;TZID=UTC:20220308T110000
DTSTAMP:20260423T201032
CREATED:20220228T103148Z
LAST-MODIFIED:20220228T103148Z
UID:10084229-1646733600-1646737200@investinangus.com
SUMMARY:Making Foundation Apprenticeships Work for Employers
DESCRIPTION:Are you an employer that wants to support your first apprentice\, but are struggling with the process? Need quick\, tailored support specifically for Foundation Apprenticeships? Check this out. \nScottish Apprenticeships work by providing thousands of jobs and work-based learning opportunities across the country every year. Developed in partnership with employers\, apprenticeships work because they continue to respond to industry needs. As part of Scottish Apprenticeship Week 2022\, SDS have developed a series of webinars designed to help demonstrate the many ways that apprenticeships work for Scotland’s people\, business and economy. \nOn this “”Foundation Apprenticeships: How to take action”” webinar we will take a look at the necessary steps you need to take\, as an employer\, to successfully recruit your first Foundation Apprentice. Expect to learn about: where to find a suitable framework and the learning providers who deliver; finding a suitable candidate that aligns to your business need/values; setting a project that works for you and the learner; how to mentor and support the learner on their journey and much more.
URL:https://investinangus.com/event/making-foundation-apprenticeships-work-for-employers/
CATEGORIES:HR,Recruitment
END:VEVENT
END:VCALENDAR