BEGIN:VCALENDAR
VERSION:2.0
PRODID:-//Invest in Angus - ECPv6.15.17.1//NONSGML v1.0//EN
CALSCALE:GREGORIAN
METHOD:PUBLISH
X-WR-CALNAME:Invest in Angus
X-ORIGINAL-URL:https://investinangus.com
X-WR-CALDESC:Events for Invest in Angus
REFRESH-INTERVAL;VALUE=DURATION:PT1H
X-Robots-Tag:noindex
X-PUBLISHED-TTL:PT1H
BEGIN:VTIMEZONE
TZID:UTC
BEGIN:STANDARD
TZOFFSETFROM:+0000
TZOFFSETTO:+0000
TZNAME:UTC
DTSTART:20210101T000000
END:STANDARD
END:VTIMEZONE
BEGIN:VEVENT
DTSTART;TZID=UTC:20221205T143000
DTEND;TZID=UTC:20221205T153000
DTSTAMP:20260422T145908
CREATED:20221123T173153Z
LAST-MODIFIED:20221123T173153Z
UID:10085919-1670250600-1670254200@investinangus.com
SUMMARY:Skilled Worker Route: How employers can sponsor international talent
DESCRIPTION:Join us for an update on the Skilled Worker Route: how employers can sponsor international talent. With most EU and non-EU citizens now subject to the UK immigration system\, we invite you to join us as we discuss how the Skilled Worker route can help you to access overseas talent. As a Scottish based SME\, TalentScotland can support your business in a number of ways. \nThis webinar is presented by Brodies LLP\, TalentScotland’s immigration specialists – you’ll have the opportunity to ask questions you may have.
URL:https://investinangus.com/event/skilled-worker-route-how-employers-can-sponsor-international-talent-2/
CATEGORIES:HR,Recruitment
END:VEVENT
END:VCALENDAR