BEGIN:VCALENDAR
VERSION:2.0
PRODID:-//Invest in Angus - ECPv6.15.17.1//NONSGML v1.0//EN
CALSCALE:GREGORIAN
METHOD:PUBLISH
X-WR-CALNAME:Invest in Angus
X-ORIGINAL-URL:https://investinangus.com
X-WR-CALDESC:Events for Invest in Angus
REFRESH-INTERVAL;VALUE=DURATION:PT1H
X-Robots-Tag:noindex
X-PUBLISHED-TTL:PT1H
BEGIN:VTIMEZONE
TZID:UTC
BEGIN:STANDARD
TZOFFSETFROM:+0000
TZOFFSETTO:+0000
TZNAME:UTC
DTSTART:20220101T000000
END:STANDARD
END:VTIMEZONE
BEGIN:VEVENT
DTSTART;TZID=UTC:20230307T100000
DTEND;TZID=UTC:20230307T110000
DTSTAMP:20260422T022207
CREATED:20230222T172658Z
LAST-MODIFIED:20230222T172658Z
UID:10086643-1678183200-1678186800@investinangus.com
SUMMARY:Unlocking Potential: Apprenticeships in a Challenging Labour Market
DESCRIPTION:Scotland’s business landscape is shifting and taking on an apprentice could unlock the potential in your business. \nThis webinar\, aimed at employers\, will help you understand the current trends in Scotland and implications for companies looking to attract talent in this environment. \nThe Evaluation and Research Team\, from Skills Development Scotland\, will walk you through current Labour Market Information\, so you can thrive and adapt in the current climate and plan for a sustainable future.
URL:https://investinangus.com/event/unlocking-potential-apprenticeships-in-a-challenging-labour-market/
CATEGORIES:HR,Recruitment
END:VEVENT
BEGIN:VEVENT
DTSTART;TZID=UTC:20230307T110000
DTEND;TZID=UTC:20230307T120000
DTSTAMP:20260422T022207
CREATED:20230220T111457Z
LAST-MODIFIED:20230220T111457Z
UID:10086614-1678186800-1678190400@investinangus.com
SUMMARY:Skilled Worker Route: How employers can sponsor international talent
DESCRIPTION:With most EU and non-EU citizens now subject to the UK immigration system\, we invite you to join us as we discuss how the Skilled Worker route can help you to access overseas talent. \nAs a Scottish based SME\, TalentScotland can support your business in a number of ways.
URL:https://investinangus.com/event/skilled-worker-route-how-employers-can-sponsor-international-talent-5/
CATEGORIES:HR,Recruitment
END:VEVENT
BEGIN:VEVENT
DTSTART;TZID=UTC:20230307T140000
DTEND;TZID=UTC:20230307T150000
DTSTAMP:20260422T022207
CREATED:20230222T172746Z
LAST-MODIFIED:20230222T172746Z
UID:10086645-1678197600-1678201200@investinangus.com
SUMMARY:Unlocking Potential: The Power of Mentoring with Apprenticeships
DESCRIPTION:Do you want to understand how mentoring can support your apprentice and your business? \nHear from an employer and apprentice first hand on the impact that good mentoring can have on the success of your workforce and business.
URL:https://investinangus.com/event/unlocking-potential-the-power-of-mentoring-with-apprenticeships/
CATEGORIES:HR,Recruitment
END:VEVENT
END:VCALENDAR