BEGIN:VCALENDAR
VERSION:2.0
PRODID:-//Invest in Angus - ECPv6.15.17.1//NONSGML v1.0//EN
CALSCALE:GREGORIAN
METHOD:PUBLISH
X-WR-CALNAME:Invest in Angus
X-ORIGINAL-URL:https://investinangus.com
X-WR-CALDESC:Events for Invest in Angus
REFRESH-INTERVAL;VALUE=DURATION:PT1H
X-Robots-Tag:noindex
X-PUBLISHED-TTL:PT1H
BEGIN:VTIMEZONE
TZID:UTC
BEGIN:STANDARD
TZOFFSETFROM:+0000
TZOFFSETTO:+0000
TZNAME:UTC
DTSTART:20220101T000000
END:STANDARD
END:VTIMEZONE
BEGIN:VEVENT
DTSTART;TZID=UTC:20230309T100000
DTEND;TZID=UTC:20230309T110000
DTSTAMP:20260422T022340
CREATED:20230222T172926Z
LAST-MODIFIED:20230222T172926Z
UID:10086649-1678356000-1678359600@investinangus.com
SUMMARY:Unlocking Potential: Employers Influencing the Apprenticeship System
DESCRIPTION:Employers can have a say on the development of future apprenticeships\, making them fit for businesses of all sizes. \nThis webinar will outline how you can get involved and influence change in your sector. \nWe will hear from Terry Dillon\, Senior Programme Manager at SDS\, who will present on the new Technical Expert Group Development Model and how you can play a part.
URL:https://investinangus.com/event/unlocking-potential-employers-influencing-the-apprenticeship-system/
CATEGORIES:HR,Recruitment
END:VEVENT
END:VCALENDAR