BEGIN:VCALENDAR
VERSION:2.0
PRODID:-//Invest in Angus - ECPv6.15.17.1//NONSGML v1.0//EN
CALSCALE:GREGORIAN
METHOD:PUBLISH
X-WR-CALNAME:Invest in Angus
X-ORIGINAL-URL:https://investinangus.com
X-WR-CALDESC:Events for Invest in Angus
REFRESH-INTERVAL;VALUE=DURATION:PT1H
X-Robots-Tag:noindex
X-PUBLISHED-TTL:PT1H
BEGIN:VTIMEZONE
TZID:UTC
BEGIN:STANDARD
TZOFFSETFROM:+0000
TZOFFSETTO:+0000
TZNAME:UTC
DTSTART:20220101T000000
END:STANDARD
END:VTIMEZONE
BEGIN:VEVENT
DTSTART;TZID=UTC:20230310T100000
DTEND;TZID=UTC:20230310T110000
DTSTAMP:20260422T022201
CREATED:20230222T173017Z
LAST-MODIFIED:20230222T173017Z
UID:10086651-1678442400-1678446000@investinangus.com
SUMMARY:Unlocking Potential: Tap into talent and Broaden your reach with Apprenticeships
DESCRIPTION:Are you keen to consider the opportunities of expanding the diversity of your workforce? \nHear real examples of why employers have invested in apprenticeships to support their inclusive workforce challenges\, how they went about it and how the business has benefited.
URL:https://investinangus.com/event/unlocking-potential-tap-into-talent-and-broaden-your-reach-with-apprenticeships/
CATEGORIES:HR,Recruitment
END:VEVENT
END:VCALENDAR