BEGIN:VCALENDAR
VERSION:2.0
PRODID:-//Invest in Angus - ECPv6.15.17.1//NONSGML v1.0//EN
CALSCALE:GREGORIAN
METHOD:PUBLISH
X-ORIGINAL-URL:https://investinangus.com
X-WR-CALDESC:Events for Invest in Angus
REFRESH-INTERVAL;VALUE=DURATION:PT1H
X-Robots-Tag:noindex
X-PUBLISHED-TTL:PT1H
BEGIN:VTIMEZONE
TZID:UTC
BEGIN:STANDARD
TZOFFSETFROM:+0000
TZOFFSETTO:+0000
TZNAME:UTC
DTSTART:20220101T000000
END:STANDARD
END:VTIMEZONE
BEGIN:VEVENT
DTSTART;TZID=UTC:20230426T110000
DTEND;TZID=UTC:20230426T120000
DTSTAMP:20260421T223849
CREATED:20230306T151522Z
LAST-MODIFIED:20230306T151522Z
UID:10086743-1682506800-1682510400@investinangus.com
SUMMARY:Latest updates on the low cost visa routes
DESCRIPTION:There are lots of low-cost visa routes under the UK’s points-based system. \nJoin TalentScotland for an update on affordable visa options\, including the Graduate\, High Potential Individual and Youth Mobility routes.
URL:https://investinangus.com/event/latest-updates-on-the-low-cost-visa-routes-4/
CATEGORIES:HR,Recruitment
END:VEVENT
END:VCALENDAR