BEGIN:VCALENDAR
VERSION:2.0
PRODID:-//Invest in Angus - ECPv6.15.17.1//NONSGML v1.0//EN
CALSCALE:GREGORIAN
METHOD:PUBLISH
X-WR-CALNAME:Invest in Angus
X-ORIGINAL-URL:https://investinangus.com
X-WR-CALDESC:Events for Invest in Angus
REFRESH-INTERVAL;VALUE=DURATION:PT1H
X-Robots-Tag:noindex
X-PUBLISHED-TTL:PT1H
BEGIN:VTIMEZONE
TZID:UTC
BEGIN:STANDARD
TZOFFSETFROM:+0000
TZOFFSETTO:+0000
TZNAME:UTC
DTSTART:20220101T000000
END:STANDARD
END:VTIMEZONE
BEGIN:VEVENT
DTSTART;TZID=UTC:20230509T110000
DTEND;TZID=UTC:20230509T120000
DTSTAMP:20260422T022342
CREATED:20230410T094759Z
LAST-MODIFIED:20230410T094759Z
UID:10087069-1683630000-1683633600@investinangus.com
SUMMARY:Skilled worker route: How employers can sponsor international talent
DESCRIPTION:With most EU and non-EU citizens now subject to the UK immigration system\, we invite you to join us as we discuss how the Skilled Worker route can help you to access overseas talent. \nAs a Scottish based SME\, TalentScotland can support your business in a number of ways.
URL:https://investinangus.com/event/skilled-worker-route-how-employers-can-sponsor-international-talent-7/
CATEGORIES:HR,Recruitment
END:VEVENT
END:VCALENDAR