BEGIN:VCALENDAR
VERSION:2.0
PRODID:-//Invest in Angus - ECPv6.15.17.1//NONSGML v1.0//EN
CALSCALE:GREGORIAN
METHOD:PUBLISH
X-ORIGINAL-URL:https://investinangus.com
X-WR-CALDESC:Events for Invest in Angus
REFRESH-INTERVAL;VALUE=DURATION:PT1H
X-Robots-Tag:noindex
X-PUBLISHED-TTL:PT1H
BEGIN:VTIMEZONE
TZID:UTC
BEGIN:STANDARD
TZOFFSETFROM:+0000
TZOFFSETTO:+0000
TZNAME:UTC
DTSTART:20220101T000000
END:STANDARD
END:VTIMEZONE
BEGIN:VEVENT
DTSTART;TZID=UTC:20230511T110000
DTEND;TZID=UTC:20230511T120000
DTSTAMP:20260422T002327
CREATED:20230410T094856Z
LAST-MODIFIED:20230410T094856Z
UID:10087071-1683802800-1683806400@investinangus.com
SUMMARY:An update on right to work checks
DESCRIPTION:Covid-19 right to work measures are ending on 30 September 2022. In this webinar\, TalentScotland will look at how employers in Scotland can continue to perform right to work checks after this date. \nThis webinar is presented by Brodies LLP\, TalentScotland’s immigration specialists\, and you’ll have the opportunity to have any questions you might have.
URL:https://investinangus.com/event/an-update-on-right-to-work-checks-6/
CATEGORIES:HR,Recruitment
END:VEVENT
END:VCALENDAR