BEGIN:VCALENDAR
VERSION:2.0
PRODID:-//Invest in Angus - ECPv6.15.17.1//NONSGML v1.0//EN
CALSCALE:GREGORIAN
METHOD:PUBLISH
X-ORIGINAL-URL:https://investinangus.com
X-WR-CALDESC:Events for Invest in Angus
REFRESH-INTERVAL;VALUE=DURATION:PT1H
X-Robots-Tag:noindex
X-PUBLISHED-TTL:PT1H
BEGIN:VTIMEZONE
TZID:UTC
BEGIN:STANDARD
TZOFFSETFROM:+0000
TZOFFSETTO:+0000
TZNAME:UTC
DTSTART:20250101T000000
END:STANDARD
END:VTIMEZONE
BEGIN:VEVENT
DTSTART;TZID=UTC:20260317T110000
DTEND;TZID=UTC:20260317T120000
DTSTAMP:20260420T022909
CREATED:20260312T154107Z
LAST-MODIFIED:20260312T154107Z
UID:10093642-1773745200-1773748800@investinangus.com
SUMMARY:Hidden legal risks every online retailer needs to know
DESCRIPTION:Selling online creates growth opportunities\, but legal gaps can quickly expose retailers to risk. \nIn this session\, LegalVision’s Rob Nay\, Head of Legal\, will explain the key legal obligations affecting e-commerce businesses. \nThe webinar will cover consumer law requirements\, how to structure contracts with customers and suppliers\, and practical steps to protect your brand in the digital space. \nKey takeaways from this session: \n\nYour core consumer law obligations when selling online\nHow to structure contracts to reduce legal risk\nPractical strategies to protect your brand digitally
URL:https://investinangus.com/event/hidden-legal-risks-every-online-retailer-needs-to-know/
CATEGORIES:Retail
END:VEVENT
END:VCALENDAR