BEGIN:VCALENDAR
VERSION:2.0
PRODID:-//Invest in Angus - ECPv6.15.17.1//NONSGML v1.0//EN
CALSCALE:GREGORIAN
METHOD:PUBLISH
X-ORIGINAL-URL:https://investinangus.com
X-WR-CALDESC:Events for Invest in Angus
REFRESH-INTERVAL;VALUE=DURATION:PT1H
X-Robots-Tag:noindex
X-PUBLISHED-TTL:PT1H
BEGIN:VTIMEZONE
TZID:UTC
BEGIN:STANDARD
TZOFFSETFROM:+0000
TZOFFSETTO:+0000
TZNAME:UTC
DTSTART:20220101T000000
END:STANDARD
END:VTIMEZONE
BEGIN:VEVENT
DTSTART;TZID=UTC:20230122T093000
DTEND;TZID=UTC:20230124T160000
DTSTAMP:20260419T233513
CREATED:20230109T101255Z
LAST-MODIFIED:20230109T101255Z
UID:10086168-1674379800-1674576000@investinangus.com
SUMMARY:Scotland's Trade Fair & Speciality Food Show
DESCRIPTION:Held at the SEC in Glasgow\, over 500 companies exhibit thousands of products to retail buyers looking to source inspirational products for the new season. \nThese co-located shows offer the very best home accessories\, giftware\, fashion\, jewellery\,  accessories and speciality food and drink from Scotland and beyond. \nPlease note this is a trade only event. \nSunday 22 January: 09:30 – 17:00\nMonday 23 January: 09:30 – 17:00\nTuesday 24 January: 09:30 – 16:00
URL:https://investinangus.com/event/scotlands-trade-fair-speciality-food-show/
LOCATION:SEC Glasgow\, Exhibition Way\, Glasgow\, G3 8YW
CATEGORIES:Food & Drink,Networking,Supply Chain
END:VEVENT
END:VCALENDAR