BEGIN:VCALENDAR
VERSION:2.0
PRODID:-//Invest in Angus - ECPv6.15.17.1//NONSGML v1.0//EN
CALSCALE:GREGORIAN
METHOD:PUBLISH
X-WR-CALNAME:Invest in Angus
X-ORIGINAL-URL:https://investinangus.com
X-WR-CALDESC:Events for Invest in Angus
REFRESH-INTERVAL;VALUE=DURATION:PT1H
X-Robots-Tag:noindex
X-PUBLISHED-TTL:PT1H
BEGIN:VTIMEZONE
TZID:UTC
BEGIN:STANDARD
TZOFFSETFROM:+0000
TZOFFSETTO:+0000
TZNAME:UTC
DTSTART:20210101T000000
END:STANDARD
END:VTIMEZONE
BEGIN:VEVENT
DTSTART;TZID=UTC:20220406T100000
DTEND;TZID=UTC:20220406T113000
DTSTAMP:20260424T230911
CREATED:20220401T153741Z
LAST-MODIFIED:20220401T153741Z
UID:10084387-1649239200-1649244600@investinangus.com
SUMMARY:Cloud for business
DESCRIPTION:How can you keep track of customers\, manage resources and keep in touch with everyone efficiently? Is a cloud-based solution right for your business? How do different back office strategies compare on cost and value? \nAt the end of this webinar\, you’ll have: \n\nUp-to-date information and tools to help you make strategic back-office decisions.\nReal-world examples will help you understand different cloud-based platforms\, their functions\, and their costs.\nYou will be able to identify which platforms suit your business\, and how their scalability could complement your plans.
URL:https://investinangus.com/event/cloud-for-business-12/
CATEGORIES:Technology
END:VEVENT
BEGIN:VEVENT
DTSTART;TZID=UTC:20220422T100000
DTEND;TZID=UTC:20220422T113000
DTSTAMP:20260424T230911
CREATED:20220401T154143Z
LAST-MODIFIED:20220401T154143Z
UID:10084395-1650621600-1650627000@investinangus.com
SUMMARY:Webinars\, live streams\, and video conferences: Running a business remotely
DESCRIPTION:There are many tools available to allow you to communicate with people online. Whether you are trying to run a workshop or seminar\, hold a meeting or just communicate. Many of these digital tools are easy to use and offer some powerful facilities. Let us guide you through: \n\nWhat webinars\, live streams and video conferences are and what is right for your business\nCase studies and examples of how they are used\nAn overview of the tools and platforms currently available
URL:https://investinangus.com/event/webinars-live-streams-and-video-conferences-running-a-business-remotely-15/
CATEGORIES:Business Planning,Technology
END:VEVENT
END:VCALENDAR