BEGIN:VCALENDAR
VERSION:2.0
PRODID:-//Invest in Angus - ECPv6.15.17.1//NONSGML v1.0//EN
CALSCALE:GREGORIAN
METHOD:PUBLISH
X-WR-CALNAME:Invest in Angus
X-ORIGINAL-URL:https://investinangus.com
X-WR-CALDESC:Events for Invest in Angus
REFRESH-INTERVAL;VALUE=DURATION:PT1H
X-Robots-Tag:noindex
X-PUBLISHED-TTL:PT1H
BEGIN:VTIMEZONE
TZID:UTC
BEGIN:STANDARD
TZOFFSETFROM:+0000
TZOFFSETTO:+0000
TZNAME:UTC
DTSTART:20210101T000000
END:STANDARD
END:VTIMEZONE
BEGIN:VEVENT
DTSTART;TZID=UTC:20220607T180000
DTEND;TZID=UTC:20220607T193000
DTSTAMP:20260424T175817
CREATED:20220516T143316Z
LAST-MODIFIED:20220516T143316Z
UID:10084640-1654624800-1654630200@investinangus.com
SUMMARY:Cloud for business
DESCRIPTION:How can you keep track of customers\, manage resources and keep in touch with everyone efficiently? Is a cloud-based solution right for your business? How do different back office strategies compare on cost and value? \nAt the end of this webinar\, you’ll have: \n\nUp-to-date information and tools to help you make strategic back-office decisions.\nReal-world examples will help you understand different cloud-based platforms\, their functions\, and their costs.\nYou will be able to identify which platforms suit your business\, and how their scalability could complement your plans.
URL:https://investinangus.com/event/cloud-for-business-14/
CATEGORIES:Business Planning,Technology
END:VEVENT
BEGIN:VEVENT
DTSTART;TZID=UTC:20220609T133000
DTEND;TZID=UTC:20220609T150000
DTSTAMP:20260424T175817
CREATED:20220509T131944Z
LAST-MODIFIED:20220509T131944Z
UID:10084600-1654781400-1654786800@investinangus.com
SUMMARY:Digital Manufacturing on a Shoestring
DESCRIPTION:The Digital Manufacturing on a Shoestring project is designed to help small and medium-sized manufacturers (SMEs) adopt simple digital technologies to improve your business and make digitalisation easy and accessible. \nBy providing companies with low-cost\, low-risk solutions that directly address your top business priorities\, Shoestring helps: \n\nImprove processes\nUpskill your staff\nEncourage collaboration with like-minded companies and Higher Education Institutions\n\nIn partnership with the Institute for Manufacturing (IfM) and Scottish Enterprise\, this webinar will showcase how a Scottish business deployed a simple Shoestring solution and explain how the company has benefited. You’ll also learn why this company is now feeling confident about digitalisation and thinking about what else it can achieve with technology. \nDuring this session\, you’ll get a chance to: \n\nLook at low-cost digital options suitable for small manufacturing companies\nHear a first-hand account from a Scottish SME\nExplore digital solutions which could address your top business needs\nLearn about opportunities for further involvement in the Shoestring project\n\nThe webinar is open to any small or medium-sized manufacturing company in Scotland.
URL:https://investinangus.com/event/digital-manufacturing-on-a-shoestring/
CATEGORIES:Business Planning,Technology
END:VEVENT
BEGIN:VEVENT
DTSTART;TZID=UTC:20220613T100000
DTEND;TZID=UTC:20220613T113000
DTSTAMP:20260424T175817
CREATED:20220516T143629Z
LAST-MODIFIED:20220516T143629Z
UID:10084650-1655114400-1655119800@investinangus.com
SUMMARY:Enhance your business with digital
DESCRIPTION:Discover the opportunities using digital could bring your business as well as what you need to consider if your business isn’t online yet. This free webinar will give you the chance to up-skill your digital knowledge and explore some of the common fears and barriers associated with moving your business online\, using social media channels and much more. \nWe will cover: \n\nThe opportunities and benefits that doing more digitally could offer your business\nWebsites and ecommerce\nContent marketing and key digital channels\, including social media\, search and email\nOpportunities with cloud computing\nRemote working tools\nThe importance of cyber resilience
URL:https://investinangus.com/event/enhance-your-business-with-digital-16/
CATEGORIES:Business Planning,Digital Marketing,Technology
END:VEVENT
BEGIN:VEVENT
DTSTART;TZID=UTC:20220628T140000
DTEND;TZID=UTC:20220628T153000
DTSTAMP:20260424T175817
CREATED:20220516T144747Z
LAST-MODIFIED:20220516T144747Z
UID:10084669-1656424800-1656430200@investinangus.com
SUMMARY:Webinars\, live streams\, and video conferences: Running a business remotely
DESCRIPTION:There are many tools available to allow you to communicate with people online. Whether you are trying to run a workshop or seminar\, hold a meeting or just communicate. Many of these digital tools are easy to use and offer some powerful facilities. Let us guide you through: \n\nWhat webinars\, live streams and video conferences are and what is right for your business\nCase studies and examples of how they are used\nAn overview of the tools and platforms currently available
URL:https://investinangus.com/event/webinars-live-streams-and-video-conferences-running-a-business-remotely-17/
CATEGORIES:Business Planning,Technology
END:VEVENT
BEGIN:VEVENT
DTSTART;TZID=UTC:20220629T100000
DTEND;TZID=UTC:20220629T113000
DTSTAMP:20260424T175817
CREATED:20220621T091830Z
LAST-MODIFIED:20220621T091830Z
UID:10084882-1656496800-1656502200@investinangus.com
SUMMARY:Cloud for business
DESCRIPTION:How can you keep track of customers\, manage resources and keep in touch with everyone efficiently? Is a cloud-based solution right for your business? How do different back office strategies compare on cost and value? \nAt the end of this webinar\, you’ll have: \n\nUp-to-date information and tools to help you make strategic back-office decisions.\nReal-world examples will help you understand different cloud-based platforms\, their functions\, and their costs.\nYou will be able to identify which platforms suit your business\, and how their scalability could complement your plans.
URL:https://investinangus.com/event/cloud-for-business-15/
CATEGORIES:Technology
END:VEVENT
BEGIN:VEVENT
DTSTART;TZID=UTC:20220630T100000
DTEND;TZID=UTC:20220630T113000
DTSTAMP:20260424T175817
CREATED:20220516T144842Z
LAST-MODIFIED:20220516T144842Z
UID:10084671-1656583200-1656588600@investinangus.com
SUMMARY:Protect your business and data from hackers
DESCRIPTION:Join us to look at why it’s important for all businesses to give their online security thought and consideration. We will take you through some simple steps to minimise the risks. We will also direct you to available support to help you and your business. \nDuring the session will cover: \n\nCyber security and why it matters for businesses\nSteps to take to protect yourself including (Backups\, Malware protection\, Mobile devices\, VPNs\, Firewalls\, Passwords and more secure authentication\, avoiding scams and fraud)\nBasic Good Practice\, to prepare and understand what to do if the worst happens.
URL:https://investinangus.com/event/protect-your-business-and-data-from-hackers-17/
CATEGORIES:Business Planning,Data Protection,Technology
END:VEVENT
END:VCALENDAR