BEGIN:VCALENDAR
VERSION:2.0
PRODID:-//Invest in Angus - ECPv6.15.17.1//NONSGML v1.0//EN
CALSCALE:GREGORIAN
METHOD:PUBLISH
X-WR-CALNAME:Invest in Angus
X-ORIGINAL-URL:https://investinangus.com
X-WR-CALDESC:Events for Invest in Angus
REFRESH-INTERVAL;VALUE=DURATION:PT1H
X-Robots-Tag:noindex
X-PUBLISHED-TTL:PT1H
BEGIN:VTIMEZONE
TZID:UTC
BEGIN:STANDARD
TZOFFSETFROM:+0000
TZOFFSETTO:+0000
TZNAME:UTC
DTSTART:20210101T000000
END:STANDARD
END:VTIMEZONE
BEGIN:VEVENT
DTSTART;TZID=UTC:20221003T090000
DTEND;TZID=UTC:20221007T170000
DTSTAMP:20260419T071302
CREATED:20220914T111749Z
LAST-MODIFIED:20220914T111749Z
UID:10085465-1664787600-1665162000@investinangus.com
SUMMARY:Scottish Business Week 2022
DESCRIPTION:Registrations are now open for Scottish Business Week 2022 – a virtual week-long event between the 3rd – 7th October\, run in partnership with Scottish Enterprise\, Highlands and Islands Enterprise\, South of Scotland Enterprise and Skills Development Scotland. \nThis free event is open to all businesses in Scotland and anyone thinking about starting up. There will be inspirational speakers\, webinars and masterclasses offering support and guidance to help increase efficiency and build resilience. \nKeynote speakers include: \n\nCouncillor Gail Macgregor\, Environment and Economy Spokesperson\, COSLA\nCarolyn Currie\, Chief Executive\, Women’s Enterprise Scotland\nAndrew Dobbie\, Founder/CEO\, MadeBrave\nDr Martin Valenti\, Director of Net Zero\, SOSE\nIvan McKee\, Minister for Business\, Trade\, Tourism and Enterprise\, Scottish Government\n\nThere will also be panel webinars on business support\, starting up\, women in business\, digital transformation and sustainability; together with webinars and masterclasses on a variety of topics from how to make your business more efficient to writing a business plan. Plus\, you can learn the fundamentals of resource efficiency and become a Green Champion through Business Energy Scotland’s CPD-certified training course. \nSign up to guarantee your place\, and for more information on the programme.
URL:https://investinangus.com/event/scottish-business-week-2022/
CATEGORIES:Business Planning,Business Start-up,Sustainable/Circular Economy,Technology
END:VEVENT
BEGIN:VEVENT
DTSTART;TZID=UTC:20221020T100000
DTEND;TZID=UTC:20221020T120000
DTSTAMP:20260419T071302
CREATED:20220920T151632Z
LAST-MODIFIED:20220920T151632Z
UID:10085503-1666260000-1666267200@investinangus.com
SUMMARY:Webinars\, live streams\, and video conferences: Running a business remotely
DESCRIPTION:There are many tools available to allow you to communicate with people online. Whether you are trying to run a workshop or seminar\, hold a meeting or just communicate. Many of these digital tools are easy to use and offer some powerful facilities. Let us guide you through: \n\nWhat webinars\, live streams and video conferences are and what is right for your business\nCase studies and examples of how they are used\nAn overview of the tools and platforms currently available
URL:https://investinangus.com/event/webinars-live-streams-and-video-conferences-running-a-business-remotely-21/
CATEGORIES:Business Planning,Technology
END:VEVENT
BEGIN:VEVENT
DTSTART;TZID=UTC:20221024T140000
DTEND;TZID=UTC:20221024T160000
DTSTAMP:20260419T071302
CREATED:20220920T152357Z
LAST-MODIFIED:20220920T152357Z
UID:10085511-1666620000-1666627200@investinangus.com
SUMMARY:Cloud for business
DESCRIPTION:Your digital back office is the technology and tools that you use to manage and grow your business. In this webinar\, we’ll look at back-office strategies and explore the range of cloud services on the market that can support you with keeping great customer relations\, managing resources\, keeping organised and communicating efficiently. \nBy the end of this webinar\, you will be able to: \n\nUnderstand the areas of your digital back-office and the impact each area can have on the efficiency and growth of your business.\nUse up-to-date knowledge on current cloud services and tools to help you with upgrading your digital back office to be more secure\, scalable and efficient.\nUse real-world examples to help you understand different cloud-based platforms\, their functions\, and their costs.\nMake informed decisions about improving your digital back-office in the future based on scalability\, security\, efficiency and affordability.
URL:https://investinangus.com/event/cloud-for-business-19/
CATEGORIES:Business Planning,Technology
END:VEVENT
END:VCALENDAR