BEGIN:VCALENDAR
VERSION:2.0
PRODID:-//Invest in Angus - ECPv6.15.17.1//NONSGML v1.0//EN
CALSCALE:GREGORIAN
METHOD:PUBLISH
X-WR-CALNAME:Invest in Angus
X-ORIGINAL-URL:https://investinangus.com
X-WR-CALDESC:Events for Invest in Angus
REFRESH-INTERVAL;VALUE=DURATION:PT1H
X-Robots-Tag:noindex
X-PUBLISHED-TTL:PT1H
BEGIN:VTIMEZONE
TZID:UTC
BEGIN:STANDARD
TZOFFSETFROM:+0000
TZOFFSETTO:+0000
TZNAME:UTC
DTSTART:20220101T000000
END:STANDARD
END:VTIMEZONE
BEGIN:VEVENT
DTSTART;TZID=UTC:20230106T120000
DTEND;TZID=UTC:20230106T140000
DTSTAMP:20260419T231205
CREATED:20221212T101804Z
LAST-MODIFIED:20221212T101804Z
UID:10086034-1673006400-1673013600@investinangus.com
SUMMARY:Cloud essentials for business
DESCRIPTION:Business owners and managers are busy. You’re wearing many hats\, and your time is always in short supply. Cloud-based digital tools help you to run a more productive business by embracing the right digital processes. \nWe’ll focus on exploring a range of tools on the market which will help you to enhance your customer service operation\, improve your project management\, organise your digital storage and much more. By the end of this webinar\, you will be able to: \n\nUnderstand what the cloud is and what its benefits are\nUnderstand your own ‘digital back office’\nUse up-to-date knowledge on current cloud services and tools to help you with your business operations\nMake informed decisions about improving your digital processes based on scalability\, security\, efficiency and affordability
URL:https://investinangus.com/event/cloud-essentials-for-business/
CATEGORIES:Technology
END:VEVENT
BEGIN:VEVENT
DTSTART;TZID=UTC:20230109T100000
DTEND;TZID=UTC:20230109T120000
DTSTAMP:20260419T231205
CREATED:20221212T101850Z
LAST-MODIFIED:20221212T101850Z
UID:10086036-1673258400-1673265600@investinangus.com
SUMMARY:Digital tools to help run your business remotely
DESCRIPTION:Are you ready to ‘go live’ and engage your audience with a live stream? What about running webinars or working remotely with clients or collaborators on the other side of the world? Let us guide you through: \n\nHow to use video live streaming\, webinars and remote collaboration tools to get results for your business\nEquipment you need to get started\nAn overview of the tools and platforms currently available\nExamples of what others are doing\nHow to monetise this way of working
URL:https://investinangus.com/event/digital-tools-to-help-run-your-business-remotely/
CATEGORIES:Business Planning,Technology
END:VEVENT
BEGIN:VEVENT
DTSTART;TZID=UTC:20230109T140000
DTEND;TZID=UTC:20230109T160000
DTSTAMP:20260419T231205
CREATED:20221212T101939Z
LAST-MODIFIED:20221212T101939Z
UID:10086038-1673272800-1673280000@investinangus.com
SUMMARY:Keep your business safe online
DESCRIPTION:Join us to find out how criminals are targeting small businesses online\, the risks you face\, and what you can do to minimise your exposure to online crime. \nThis webinar includes a number of live demos\, covering the following areas: \n\nWhat are the main online threats to your business?\nThe 5 pillars of prevention (Backup\, Malware prevention\, Securing your hardware\, Passwords & Phishing attacks)\nSimple and practical measures you can implement to protect yourself and your business\nBest practice recovery steps for your business if the worst should happen\n\nAs a result of attending this webinar\, you will gain a deeper understanding of the digital threats facing your business and what you need to do to secure your website\, social media and company data from cyber criminals.
URL:https://investinangus.com/event/keep-your-business-safe-online/
CATEGORIES:Business Planning,Technology
END:VEVENT
END:VCALENDAR