BEGIN:VCALENDAR
VERSION:2.0
PRODID:-//Invest in Angus - ECPv6.15.17.1//NONSGML v1.0//EN
CALSCALE:GREGORIAN
METHOD:PUBLISH
X-WR-CALNAME:Invest in Angus
X-ORIGINAL-URL:https://investinangus.com
X-WR-CALDESC:Events for Invest in Angus
REFRESH-INTERVAL;VALUE=DURATION:PT1H
X-Robots-Tag:noindex
X-PUBLISHED-TTL:PT1H
BEGIN:VTIMEZONE
TZID:UTC
BEGIN:STANDARD
TZOFFSETFROM:+0000
TZOFFSETTO:+0000
TZNAME:UTC
DTSTART:20220101T000000
END:STANDARD
END:VTIMEZONE
BEGIN:VEVENT
DTSTART;TZID=UTC:20230505T120000
DTEND;TZID=UTC:20230505T140000
DTSTAMP:20260419T071214
CREATED:20230417T121051Z
LAST-MODIFIED:20230417T121051Z
UID:10087099-1683288000-1683295200@investinangus.com
SUMMARY:Cloud essentials for business
DESCRIPTION:Business owners and managers are busy. You’re wearing many hats\, and your time is always in short supply. Cloud-based digital tools help you to run a more productive business by embracing the right digital processes. \nWe’ll focus on exploring a range of tools on the market which will help you to enhance your customer service operation\, improve your project management\, organise your digital storage and much more. By the end of this webinar\, you will be able to: \n\nUnderstand what the cloud is and what its benefits are\nUnderstand your own ‘digital back office’\nUse up-to-date knowledge on current cloud services and tools to help you with your business operations\nMake informed decisions about improving your digital processes based on scalability\, security\, efficiency and affordability
URL:https://investinangus.com/event/cloud-essentials-for-business-5/
CATEGORIES:Business Planning,Technology
END:VEVENT
BEGIN:VEVENT
DTSTART;TZID=UTC:20230523T180000
DTEND;TZID=UTC:20230523T200000
DTSTAMP:20260419T071214
CREATED:20230417T133918Z
LAST-MODIFIED:20230417T133918Z
UID:10087125-1684864800-1684872000@investinangus.com
SUMMARY:How Artificial Intelligence (AI) can help your business marketing
DESCRIPTION:You’ve heard of Artificial Intelligence\, but do you know how it can help you as you run your business? This brand new practical webinar will explore how AI can help revolutionise your business marketing to be more efficient and cost-effective\, through the automatic creation of content for all your digital platforms; as well as helping you better understand your customers and business opportunities. \nThis webinar will include: \n\nWhat is Artificial Intelligence\nCurrent AI tools and systems to use right now (including ChatGPT and Dall-E 2)\nAutomating Digital Content for Blogs and Social Media\nUsing AI for business strategy and customer profiling\nThe pros and cons of AI for small businesses\n\nThis webinar will help you understand how you can integrate AI into your existing marketing\, looking at the potential consequences (good and bad) of Artificial Intelligence\, and its impact on small businesses and their customers.
URL:https://investinangus.com/event/how-artificial-intelligence-ai-can-help-your-business-marketing-5/
CATEGORIES:Digital Marketing,Technology
END:VEVENT
BEGIN:VEVENT
DTSTART;TZID=UTC:20230529T100000
DTEND;TZID=UTC:20230529T120000
DTSTAMP:20260419T071214
CREATED:20230410T084851Z
LAST-MODIFIED:20230410T084851Z
UID:10087041-1685354400-1685361600@investinangus.com
SUMMARY:Digital tools to help run your business remotely
DESCRIPTION:Are you ready to ‘go live’ and engage your audience with a live stream? What about running webinars or working remotely with clients or collaborators on the other side of the world? Let us guide you through: \n\nHow to use video live streaming\, webinars and remote collaboration tools to get results for your business\nEquipment you need to get started\nAn overview of the tools and platforms currently available\nExamples of what others are doing\nHow to monetise this way of working
URL:https://investinangus.com/event/digital-tools-to-help-run-your-business-remotely-5/
CATEGORIES:Business Planning,Technology
END:VEVENT
END:VCALENDAR