BEGIN:VCALENDAR
VERSION:2.0
PRODID:-//Invest in Angus - ECPv6.15.17.1//NONSGML v1.0//EN
CALSCALE:GREGORIAN
METHOD:PUBLISH
X-ORIGINAL-URL:https://investinangus.com
X-WR-CALDESC:Events for Invest in Angus
REFRESH-INTERVAL;VALUE=DURATION:PT1H
X-Robots-Tag:noindex
X-PUBLISHED-TTL:PT1H
BEGIN:VTIMEZONE
TZID:UTC
BEGIN:STANDARD
TZOFFSETFROM:+0000
TZOFFSETTO:+0000
TZNAME:UTC
DTSTART:20230101T000000
END:STANDARD
END:VTIMEZONE
BEGIN:VEVENT
DTSTART;TZID=UTC:20240610T100000
DTEND;TZID=UTC:20240610T120000
DTSTAMP:20260419T071043
CREATED:20240415T105514Z
LAST-MODIFIED:20240415T105514Z
UID:10089017-1718013600-1718020800@investinangus.com
SUMMARY:An introduction to Artificial Intelligence (AI) for small businesses
DESCRIPTION:You’ve heard of Artificial Intelligence\, but do you know how it can help you as you run your business? This practical webinar will explore how AI can help improve your business marketing to be more efficient and cost-effective\, through the automatic creation of content for all your digital platforms; as well as helping you better understand your customers and business opportunities. \nThis webinar will cover: \n\nWhat is Artificial Intelligence\nCurrent AI tools and systems to use right now (including ChatGPT and MidJourney)\nAutomating digital content for blogs and social media\nUsing AI for business strategy and customer profiling\nThe pros and cons of AI for small businesses\n\nThis webinar will help you understand how you can integrate AI into your existing marketing\, looking at the potential consequences (good and bad) of Artificial Intelligence\, and its impact on small businesses and their customers.
URL:https://investinangus.com/event/an-introduction-to-artificial-intelligence-ai-for-small-businesses-2/
CATEGORIES:Digital Marketing,Technology
END:VEVENT
BEGIN:VEVENT
DTSTART;TZID=UTC:20240614T140000
DTEND;TZID=UTC:20240614T150000
DTSTAMP:20260419T071043
CREATED:20240520T121326Z
LAST-MODIFIED:20240520T121326Z
UID:10089261-1718373600-1718377200@investinangus.com
SUMMARY:Marketing strategy and AI
DESCRIPTION:How can you supercharge your digital marketing strategy with the help of AI in 2024? \nIn today’s evolving digital landscape\, AI is changing the way consumers access and interact with digital tools: from providing increasingly personalised user experiences to the integration of new technology in our everyday apps. \nIn this one-hour short course\, you’ll explore the impact of AI on digital marketing and how to leverage its potential to reach and engage with customers in new ways. \nThis session delves into the cutting-edge tools from Google and others\, and will provide you with actionable insights to implement in your marketing strategy\, with the help of AI. \nIn this session you will learn: \n\nhow AI is changing the marketing landscape and what are the opportunities for marketers\nAI-powered marketing tools you can try\nsupercharging your digital marketing strategy.\n\nThe session is run using YouTube and is 60 minutes long. The course assumes no prior knowledge or experience so there is no pre-reading necessary. There will be opportunity to ask questions during the session. \nThis session is developed by marketing experts at Google as part of the New Fundamentals training series from Google Digital Garage.
URL:https://investinangus.com/event/marketing-strategy-and-ai-3/
CATEGORIES:Digital Marketing,Technology
END:VEVENT
BEGIN:VEVENT
DTSTART;TZID=UTC:20240620T143000
DTEND;TZID=UTC:20240620T153000
DTSTAMP:20260419T071043
CREATED:20240617T100535Z
LAST-MODIFIED:20240617T100535Z
UID:10089497-1718893800-1718897400@investinangus.com
SUMMARY:Boost your productivity with AI
DESCRIPTION:This Google Digital Garage session introduces learners to cutting-edge AI tools that are already available from Google and others\, to show some of the smartest ways digital-age workers can use them to save time at work and on tasks. \nIn this session\, you will learn: \n\nan introduction to generative AI and how it works\nhow to use AI-powered tools and techniques to save you time\nan overview to crafting effective prompts\n\nThis session is run using YouTube and is 45 minutes long. \nThe course assumes no prior knowledge or experience so there is no pre-reading necessary.
URL:https://investinangus.com/event/boost-your-productivity-with-ai-4/
CATEGORIES:Business Planning,Technology
END:VEVENT
BEGIN:VEVENT
DTSTART;TZID=UTC:20240620T160000
DTEND;TZID=UTC:20240620T170000
DTSTAMP:20260419T071043
CREATED:20240617T100348Z
LAST-MODIFIED:20240617T100348Z
UID:10089493-1718899200-1718902800@investinangus.com
SUMMARY:Understanding machine learning
DESCRIPTION:This session teaches the foundations of how machine learning models learn and work\, the components of designing a problem for machine learning to solve and a basic understanding of the resources and tools needed for a business to invest in machine learning. Aimed at small business leaders / owners or anyone looking to get a better understanding on the subject. \nIn this session\, you will learn: \n\nhow different machine learning models work\nthe essentials for preparing data for a machine learning project\noptions for implementing machine learning for a business\n\nThis session is run using YouTube and is 60 minutes long. \nThe course assumes no prior knowledge or experience so there is no pre-reading necessary.
URL:https://investinangus.com/event/understanding-machine-learning-5/
CATEGORIES:Business Planning,Technology
END:VEVENT
BEGIN:VEVENT
DTSTART;TZID=UTC:20240628T093000
DTEND;TZID=UTC:20240628T103000
DTSTAMP:20260419T071043
CREATED:20240617T100139Z
LAST-MODIFIED:20240617T100139Z
UID:10089489-1719567000-1719570600@investinangus.com
SUMMARY:Marketing strategy and AI
DESCRIPTION:How can you supercharge your digital marketing strategy with the help of AI in 2024? \nIn today’s evolving digital landscape\, AI is changing the way consumers access and interact with digital tools: from providing increasingly personalised user experiences to the integration of new technology in our everyday apps. \nIn this one-hour short course\, you’ll explore the impact of AI on digital marketing and how to leverage its potential to reach and engage with customers in new ways. \nThis session delves into the cutting-edge tools from Google and others\, and will provide you with actionable insights to implement in your marketing strategy\, with the help of AI. \nIn this session you will learn: \n\nhow AI is changing the marketing landscape and what are the opportunities for marketers\nAI-powered marketing tools you can try\nsupercharging your digital marketing strategy.\n\nThe session is run using YouTube and is 60 minutes long. The course assumes no prior knowledge or experience so there is no pre-reading necessary. There will be opportunity to ask questions during the session. \nThis session is developed by marketing experts at Google as part of the New Fundamentals training series from Google Digital Garage.
URL:https://investinangus.com/event/marketing-strategy-and-ai-4/
CATEGORIES:Digital Marketing,Marketing,Technology
END:VEVENT
END:VCALENDAR