BEGIN:VCALENDAR
VERSION:2.0
PRODID:-//Invest in Angus - ECPv6.15.17.1//NONSGML v1.0//EN
CALSCALE:GREGORIAN
METHOD:PUBLISH
X-ORIGINAL-URL:https://investinangus.com
X-WR-CALDESC:Events for Invest in Angus
REFRESH-INTERVAL;VALUE=DURATION:PT1H
X-Robots-Tag:noindex
X-PUBLISHED-TTL:PT1H
BEGIN:VTIMEZONE
TZID:UTC
BEGIN:STANDARD
TZOFFSETFROM:+0000
TZOFFSETTO:+0000
TZNAME:UTC
DTSTART:20210101T000000
END:STANDARD
END:VTIMEZONE
BEGIN:VEVENT
DTSTART;TZID=UTC:20220907T110000
DTEND;TZID=UTC:20220907T120000
DTSTAMP:20260424T124658
CREATED:20220829T093715Z
LAST-MODIFIED:20220829T093715Z
UID:10085359-1662548400-1662552000@investinangus.com
SUMMARY:Introduction to the Heat Hub Grand Challenge
DESCRIPTION:Our speakers discuss the ‘Heat Hub Grand Challenge’. \nThis is an exciting opportunity aimed at encouraging consortia to develop proposals for a ‘Heat Hub’ which will help position Scotland as a leading location in Europe for low carbon heat manufacturing.
URL:https://investinangus.com/event/introduction-to-the-heat-hub-grand-challenge/
CATEGORIES:Green Economy,Sustainable/Circular Economy,Technology
END:VEVENT
END:VCALENDAR