BEGIN:VCALENDAR
VERSION:2.0
PRODID:-//Invest in Angus - ECPv6.15.17.1//NONSGML v1.0//EN
CALSCALE:GREGORIAN
METHOD:PUBLISH
X-WR-CALNAME:Invest in Angus
X-ORIGINAL-URL:https://investinangus.com
X-WR-CALDESC:Events for Invest in Angus
REFRESH-INTERVAL;VALUE=DURATION:PT1H
X-Robots-Tag:noindex
X-PUBLISHED-TTL:PT1H
BEGIN:VTIMEZONE
TZID:UTC
BEGIN:STANDARD
TZOFFSETFROM:+0000
TZOFFSETTO:+0000
TZNAME:UTC
DTSTART:20210101T000000
END:STANDARD
END:VTIMEZONE
BEGIN:VEVENT
DTSTART;TZID=UTC:20221108T150000
DTEND;TZID=UTC:20221108T160000
DTSTAMP:20260424T082648
CREATED:20221031T100526Z
LAST-MODIFIED:20221031T100526Z
UID:10085809-1667919600-1667923200@investinangus.com
SUMMARY:Digital Water Opportunities
DESCRIPTION:The digitalisation of the water sector provides significant opportunities for water companies and digital solution providers to work together on water specific challenges. \nThe webinar will look at drivers such as Net Zero\, digital capabilities and technology development.
URL:https://investinangus.com/event/digital-water-opportunities/
CATEGORIES:Business Planning,Technology
END:VEVENT
END:VCALENDAR