BEGIN:VCALENDAR
VERSION:2.0
PRODID:-//Invest in Angus - ECPv6.15.17.1//NONSGML v1.0//EN
CALSCALE:GREGORIAN
METHOD:PUBLISH
X-WR-CALNAME:Invest in Angus
X-ORIGINAL-URL:https://investinangus.com
X-WR-CALDESC:Events for Invest in Angus
REFRESH-INTERVAL;VALUE=DURATION:PT1H
X-Robots-Tag:noindex
X-PUBLISHED-TTL:PT1H
BEGIN:VTIMEZONE
TZID:UTC
BEGIN:STANDARD
TZOFFSETFROM:+0000
TZOFFSETTO:+0000
TZNAME:UTC
DTSTART:20210101T000000
END:STANDARD
END:VTIMEZONE
BEGIN:VEVENT
DTSTART;TZID=UTC:20221130T130000
DTEND;TZID=UTC:20221130T140000
DTSTAMP:20260424T010326
CREATED:20221128T103234Z
LAST-MODIFIED:20221128T103234Z
UID:10085935-1669813200-1669816800@investinangus.com
SUMMARY:How to stay secure online
DESCRIPTION:This panel webinar\, led by a panel of experts\, will offer valuable discussion\, insights\, and tips on recognising potential threats; securing data and personal information; and reinforcing why online security and the importance of protecting your customers online is essential for every business. \nThis session will explore: \n\nWhat are the most common online threats in today’s world?\nWhat are the most common ways that businesses are likely to be impacted by online threats?\nTop tips for managing online security and building cyber resilience\nThe first thing you should do if your business is the victim of a cyber-attack\nWhat support is out there to help businesses understand how to better protect their online security?
URL:https://investinangus.com/event/how-to-stay-secure-online/
CATEGORIES:Business Planning,Technology
END:VEVENT
END:VCALENDAR