BEGIN:VCALENDAR
VERSION:2.0
PRODID:-//Invest in Angus - ECPv6.15.17.1//NONSGML v1.0//EN
CALSCALE:GREGORIAN
METHOD:PUBLISH
X-WR-CALNAME:Invest in Angus
X-ORIGINAL-URL:https://investinangus.com
X-WR-CALDESC:Events for Invest in Angus
REFRESH-INTERVAL;VALUE=DURATION:PT1H
X-Robots-Tag:noindex
X-PUBLISHED-TTL:PT1H
BEGIN:VTIMEZONE
TZID:UTC
BEGIN:STANDARD
TZOFFSETFROM:+0000
TZOFFSETTO:+0000
TZNAME:UTC
DTSTART:20220101T000000
END:STANDARD
END:VTIMEZONE
BEGIN:VEVENT
DTSTART;TZID=UTC:20230223T093000
DTEND;TZID=UTC:20230223T123000
DTSTAMP:20260423T125211
CREATED:20230130T114117Z
LAST-MODIFIED:20230130T114117Z
UID:10086392-1677144600-1677155400@investinangus.com
SUMMARY:Preventing IT and Digital Project Failure
DESCRIPTION:Evidence suggests that 65% to 75% of IT and digital projects fail. The true cost of project failure isn’t just financial investment — it costs time invested by staff\, as well as impact on service delivery and your brand’s reputation. \nDo you need help navigating these challenges? \nScottish Enterprise is offering practical and interactive half-day workshops that will help you to identify causes of project failure\, avoid common mistakes and maximise your success. These are delivered by Augmentum 360 and Scottish Enterprise’s Digital Team. \nYou’ll benefit from highly experienced professionals sharing their expertise on: \n\nIT project and implementation\nHow technology can boost efficiency\, profitability\, market competitiveness and resilience\nBest-practice tools and techniques\nReal-life examples and resolving key challenges\nIdentifying and engaging suppliers\nSupport for Scottish businesses adopting digital technology\n\nWho is this for? \nIf you’re a business leader within an ambitious Scottish company\, who has responsibility for IT & Digital investment decisions and/or implementation. \nIn this workshop\, you’ll get a chance to learn about: \n\nTrue cost of project failure – money\, time\, quality\, reputation\nHow to scope and plan\nAssessing options — ROI\, solution suitability\nIdentifying and managing risks\nHow to effectively implement and roll out How to initiate organisation change and take people with you\nHow to Choose a System and Supplier: CRM\, ERP\, Ecommerce\, other systems — how to avoid costly mistakes and ensure solution and supplier are fit for purpose
URL:https://investinangus.com/event/preventing-it-and-digital-project-failure/
LOCATION:Apex City Quay Hotel\, 1 West Victoria Dock Road\, Dundee\, DD1 3JP
CATEGORIES:Business Planning,Technology
END:VEVENT
BEGIN:VEVENT
DTSTART;TZID=UTC:20230223T140000
DTEND;TZID=UTC:20230223T160000
DTSTAMP:20260423T125211
CREATED:20230123T104113Z
LAST-MODIFIED:20230123T104113Z
UID:10086309-1677160800-1677168000@investinangus.com
SUMMARY:Digital tools to help run your business remotely
DESCRIPTION:Are you ready to ‘go live’ and engage your audience with a live stream? What about running webinars or working remotely with clients or collaborators on the other side of the world? Let us guide you through: \n\nHow to use video live streaming\, webinars and remote collaboration tools to get results for your business\nEquipment you need to get started\nAn overview of the tools and platforms currently available\nExamples of what others are doing\nHow to monetise this way of working
URL:https://investinangus.com/event/digital-tools-to-help-run-your-business-remotely-2/
CATEGORIES:Business Planning,Technology
END:VEVENT
END:VCALENDAR