BEGIN:VCALENDAR
VERSION:2.0
PRODID:-//Invest in Angus - ECPv6.15.17.1//NONSGML v1.0//EN
CALSCALE:GREGORIAN
METHOD:PUBLISH
X-WR-CALNAME:Invest in Angus
X-ORIGINAL-URL:https://investinangus.com
X-WR-CALDESC:Events for Invest in Angus
REFRESH-INTERVAL;VALUE=DURATION:PT1H
X-Robots-Tag:noindex
X-PUBLISHED-TTL:PT1H
BEGIN:VTIMEZONE
TZID:UTC
BEGIN:STANDARD
TZOFFSETFROM:+0000
TZOFFSETTO:+0000
TZNAME:UTC
DTSTART:20220101T000000
END:STANDARD
END:VTIMEZONE
BEGIN:VEVENT
DTSTART;TZID=UTC:20230721T100000
DTEND;TZID=UTC:20230721T133000
DTSTAMP:20260422T080306
CREATED:20230710T073937Z
LAST-MODIFIED:20230710T073937Z
UID:10087613-1689933600-1689946200@investinangus.com
SUMMARY:Unleash the power of ChatGPT and AI for business growth
DESCRIPTION:AI has been hitting the headlines recently\, with the launch of ChatGPT already making waves across various industries. \nChatGPT and other similar AI applications use natural language processing to create humanlike conversational dialogue. \nThe language model can respond to questions and compose various written content\, including articles\, social media posts\, essays\, computer code and emails. \nThis masterclass\, led by Stephen Whitelaw\, will delve into how you can utilise AI tools to help your business become more efficient and productive.
URL:https://investinangus.com/event/unleash-the-power-of-chatgpt-and-ai-for-business-growth/
LOCATION:Scottish Enterprise\, 99 Haymarket Terrace\, Edinburgh\, EH12 5HD
CATEGORIES:Technology
END:VEVENT
END:VCALENDAR