BEGIN:VCALENDAR
VERSION:2.0
PRODID:-//Invest in Angus - ECPv6.15.17.1//NONSGML v1.0//EN
CALSCALE:GREGORIAN
METHOD:PUBLISH
X-WR-CALNAME:Invest in Angus
X-ORIGINAL-URL:https://investinangus.com
X-WR-CALDESC:Events for Invest in Angus
REFRESH-INTERVAL;VALUE=DURATION:PT1H
X-Robots-Tag:noindex
X-PUBLISHED-TTL:PT1H
BEGIN:VTIMEZONE
TZID:UTC
BEGIN:STANDARD
TZOFFSETFROM:+0000
TZOFFSETTO:+0000
TZNAME:UTC
DTSTART:20230101T000000
END:STANDARD
END:VTIMEZONE
BEGIN:VEVENT
DTSTART;TZID=UTC:20240314T100000
DTEND;TZID=UTC:20240314T110000
DTSTAMP:20260421T092158
CREATED:20240226T152700Z
LAST-MODIFIED:20240226T152700Z
UID:10088764-1710410400-1710414000@investinangus.com
SUMMARY:Using AI for business and international growth
DESCRIPTION:This webinar will help you understand artificial intelligence (AI) and its potential business uses. \nGet an introduction to AI technology\, see practical steps for using it\, and learn about its limitations.
URL:https://investinangus.com/event/using-ai-for-business-and-international-growth/
CATEGORIES:Technology
END:VEVENT
END:VCALENDAR