BEGIN:VCALENDAR
VERSION:2.0
PRODID:-//Invest in Angus - ECPv6.15.17.1//NONSGML v1.0//EN
CALSCALE:GREGORIAN
METHOD:PUBLISH
X-WR-CALNAME:Invest in Angus
X-ORIGINAL-URL:https://investinangus.com
X-WR-CALDESC:Events for Invest in Angus
REFRESH-INTERVAL;VALUE=DURATION:PT1H
X-Robots-Tag:noindex
X-PUBLISHED-TTL:PT1H
BEGIN:VTIMEZONE
TZID:UTC
BEGIN:STANDARD
TZOFFSETFROM:+0000
TZOFFSETTO:+0000
TZNAME:UTC
DTSTART:20230101T000000
END:STANDARD
END:VTIMEZONE
BEGIN:VEVENT
DTSTART;TZID=UTC:20240718T140000
DTEND;TZID=UTC:20240718T150000
DTSTAMP:20260420T192820
CREATED:20240715T082613Z
LAST-MODIFIED:20240715T082613Z
UID:10089671-1721311200-1721314800@investinangus.com
SUMMARY:Boost your productivity with AI
DESCRIPTION:This Google Digital Garage session introduces learners to cutting-edge AI tools that are already available from Google and others\, to show some of the smartest ways digital-age workers can use them to save time at work and on tasks. \nIn this session\, you will learn: \n\nan introduction to generative AI and how it works\nhow to use AI-powered tools and techniques to save you time\nan overview to crafting effective prompts\n\nThis session is run using YouTube and is 45 minutes long. \nThe course assumes no prior knowledge or experience so there is no pre-reading necessary. \nThere will be the opportunity to ask questions during the session. \nPlease note\, these training sessions are only available in the UK.
URL:https://investinangus.com/event/boost-your-productivity-with-ai-6/
CATEGORIES:Technology
END:VEVENT
END:VCALENDAR