BEGIN:VCALENDAR
VERSION:2.0
PRODID:-//Invest in Angus - ECPv6.15.17.1//NONSGML v1.0//EN
CALSCALE:GREGORIAN
METHOD:PUBLISH
X-WR-CALNAME:Invest in Angus
X-ORIGINAL-URL:https://investinangus.com
X-WR-CALDESC:Events for Invest in Angus
REFRESH-INTERVAL;VALUE=DURATION:PT1H
X-Robots-Tag:noindex
X-PUBLISHED-TTL:PT1H
BEGIN:VTIMEZONE
TZID:UTC
BEGIN:STANDARD
TZOFFSETFROM:+0000
TZOFFSETTO:+0000
TZNAME:UTC
DTSTART:20240101T000000
END:STANDARD
END:VTIMEZONE
BEGIN:VEVENT
DTSTART;TZID=UTC:20250513T100000
DTEND;TZID=UTC:20250513T110000
DTSTAMP:20260419T170738
CREATED:20250428T084303Z
LAST-MODIFIED:20250428T084303Z
UID:10091106-1747130400-1747134000@investinangus.com
SUMMARY:Generative and agentic Artificial Intelligence (AI) for the future of work
DESCRIPTION:This online session will focus on the accessibility and real-world relevance of generative and agentic Artificial Intelligence (AI). It will highlight concrete use cases\, emerging patterns of adoption\, and strategic questions SMEs should be asking now to prepare for what comes next. \nDr Marcel Lukas\, Vice Dean Executive Education and Senior Lecturer in Banking and Finance at the University of St Andrews\, will lead the session. Drawing on his research in financial technology\, behavioural economics\, and policy engagement\, Dr Lukas will examine how generative AI is not only transforming operational efficiency but also enabling new forms of creativity\, customer engagement\, and business model innovation. \nThis will consider both the immediate practical applications and the broader organisational and workforce implications\, including skills development\, ethical considerations\, and regulatory awareness. \nAttendees will leave with a clearer understanding of the potential benefits and limitations of generative and agentic AI\, and with ideas on how to engage with these technologies in a responsible and sustainable way.
URL:https://investinangus.com/event/generative-and-agentic-artificial-intelligence-ai-for-the-future-of-work/
CATEGORIES:Technology
END:VEVENT
END:VCALENDAR