BEGIN:VCALENDAR
VERSION:2.0
PRODID:-//Invest in Angus - ECPv6.15.17.1//NONSGML v1.0//EN
CALSCALE:GREGORIAN
METHOD:PUBLISH
X-WR-CALNAME:Invest in Angus
X-ORIGINAL-URL:https://investinangus.com
X-WR-CALDESC:Events for Invest in Angus
REFRESH-INTERVAL;VALUE=DURATION:PT1H
X-Robots-Tag:noindex
X-PUBLISHED-TTL:PT1H
BEGIN:VTIMEZONE
TZID:UTC
BEGIN:STANDARD
TZOFFSETFROM:+0000
TZOFFSETTO:+0000
TZNAME:UTC
DTSTART:20210101T000000
END:STANDARD
END:VTIMEZONE
BEGIN:VEVENT
DTSTART;TZID=UTC:20220921T160000
DTEND;TZID=UTC:20220921T180000
DTSTAMP:20260419T071653
CREATED:20220811T144002Z
LAST-MODIFIED:20220811T144002Z
UID:10085223-1663776000-1663783200@investinangus.com
SUMMARY:Short-Terms Lets Regulations Roadshow
DESCRIPTION:In conjunction with Gilson Gray LLP\, the Association of Scotland’s Self-Caterers (ASSC) is launching a series of in-person and virtual events aimed at short-term let business operators\, stakeholders and industry professionals who want to understand the next steps for short-term let licensing regulations in Scotland. \nFiona Campbell\, Chief Executive of Association of Scotland’s Self-Caterers and Joanna Millar\, Legal Director with Gilson Gray LLP will outline you what you need to know about the new regulations and give you an opportunity to ask any questions that people have. \nThis is a virtual event for businesses in Angus and Perth & Kinross. \nAngus businesses can register for free using code ANGUS2022
URL:https://investinangus.com/event/short-terms-lets-regulations-roadshow/
CATEGORIES:Legislation,Tourism
END:VEVENT
BEGIN:VEVENT
DTSTART;TZID=UTC:20220922T093000
DTEND;TZID=UTC:20220922T130000
DTSTAMP:20260419T071653
CREATED:20220829T093216Z
LAST-MODIFIED:20220829T093216Z
UID:10085353-1663839000-1663851600@investinangus.com
SUMMARY:ETAG travel trade ready workshop
DESCRIPTION:Trainers Liz Young and Karen Jacques will give you a full overview of all things “travel trade”. They will encourage you to start thinking about what your “bookable” travel trade product is\, as well as how to market to the travel trade. \nAside from sharing some key industry insights and trends\, they will be drawing on the experience of industry professionals and Edinburgh businesses already working effectively with the travel trade. \nWorking with the travel trade can provide your business with access to domestic and international visitors coming to the city\, generate new revenue streams and help achieve some key advance bookings. It is a worthwhile journey but does need a concentrated focus. \nIf you are new to working with the travel trade or want to refresh your memory come and join us for our in-person Travel Trade Ready Workshop where we will explore: \n* Who are the travel trade \n* Why work with the travel trade \n* How to work with the travel trade \n* Top Tips for working with the travel trade
URL:https://investinangus.com/event/etag-travel-trade-ready-workshop/
LOCATION:Scottish Enterprise\, 99 Haymarket Terrace\, Edinburgh\, EH12 5HD
CATEGORIES:Tourism
END:VEVENT
END:VCALENDAR