BEGIN:VCALENDAR
VERSION:2.0
PRODID:-//Invest in Angus - ECPv6.15.17.1//NONSGML v1.0//EN
CALSCALE:GREGORIAN
METHOD:PUBLISH
X-WR-CALNAME:Invest in Angus
X-ORIGINAL-URL:https://investinangus.com
X-WR-CALDESC:Events for Invest in Angus
REFRESH-INTERVAL;VALUE=DURATION:PT1H
X-Robots-Tag:noindex
X-PUBLISHED-TTL:PT1H
BEGIN:VTIMEZONE
TZID:UTC
BEGIN:STANDARD
TZOFFSETFROM:+0000
TZOFFSETTO:+0000
TZNAME:UTC
DTSTART:20210101T000000
END:STANDARD
END:VTIMEZONE
BEGIN:VEVENT
DTSTART;TZID=UTC:20221101T110000
DTEND;TZID=UTC:20221101T120000
DTSTAMP:20260424T022820
CREATED:20221017T153235Z
LAST-MODIFIED:20221017T153235Z
UID:10085674-1667300400-1667304000@investinangus.com
SUMMARY:Tourism businesses: Make your website work for your customers
DESCRIPTION:At the end of this webinar you’ll: \n\nUnderstand how users consume content.\nUnderstand the importance of knowing your online users’ experience and tailoring the customer journey on your website accordingly.\nFind out how to measure user experience cost-effectively.\nHave some great examples of making user experience work.
URL:https://investinangus.com/event/tourism-businesses-make-your-website-work-for-your-customers/
CATEGORIES:Digital Marketing,Tourism
END:VEVENT
BEGIN:VEVENT
DTSTART;TZID=UTC:20221103T110000
DTEND;TZID=UTC:20221103T120000
DTSTAMP:20260424T022820
CREATED:20221017T153409Z
LAST-MODIFIED:20221017T153409Z
UID:10085676-1667473200-1667476800@investinangus.com
SUMMARY:Tourism businesses – Make Instagram work for you
DESCRIPTION:We’ll help you: \n\nFind out if/how Instagram will help grow your business.\nUnderstand how tourism is uniquely suited to Instagram and what elements can be used to drive the best engagement and conversion.\nAppreciate how to use its functionality to create the best content.\nLearn about your followers and gain new followers ideally suited to your content.
URL:https://investinangus.com/event/tourism-businesses-make-instagram-work-for-you-2/
CATEGORIES:Digital Marketing,Tourism
END:VEVENT
BEGIN:VEVENT
DTSTART;TZID=UTC:20221108T130000
DTEND;TZID=UTC:20221108T170000
DTSTAMP:20260424T022820
CREATED:20221018T111928Z
LAST-MODIFIED:20221018T111928Z
UID:10085692-1667912400-1667926800@investinangus.com
SUMMARY:Scotland’s Cruise Conference 2022 – What Works for Tourism
DESCRIPTION:In 2022 the return of cruise ship calls around Scotland has been stronger than expected. Throughout the summer\, confidence in cruising by UK and international travellers has increased\, and as Covid regulatory restrictions have eased\, the percentage occupancy on each itinerary has grown month by month. In addition\, new ships ordered pre-pandemic\, have been delivered\, and new cruise lines have emerged onto the market. The 2023 season now promises to be busier for ports and attractions than 2019. \nBut what does this mean for Scottish cruise ports and coastline\, and the visitor attractions and hospitality businesses accessed by cruise guests on our islands and across mainland Scotland? \nScotland’s Cruise Conference – What Works for Tourism 2023 will explore the issues which arise from the re-establishment of cruise tourism for Scotland and its communities. Speakers and attendees will consider the opportunities as well as the concerns arising from the growth in this market – providing information to allow forward planning for different sectors of this market\, as well as considering pressures on services and resources and the work being done by the industry to ensure sustainability.
URL:https://investinangus.com/event/scotlands-cruise-conference-2022-what-works-for-tourism/
LOCATION:Marriot Hotel\, Glasgow Road\, Edinburgh\, EH12 8NF
CATEGORIES:Networking,Tourism
END:VEVENT
BEGIN:VEVENT
DTSTART;TZID=UTC:20221109T080000
DTEND;TZID=UTC:20221110T130000
DTSTAMP:20260424T022820
CREATED:20220829T093434Z
LAST-MODIFIED:20220829T093434Z
UID:10085356-1667980800-1668085200@investinangus.com
SUMMARY:Scotland’s tourism industry conference 2022
DESCRIPTION:Scotland’s tourism industry conference is back for 2022. With a packed programme\, the event is designed to celebrate\, empower and further propel our industry into the future in line with the national ambition to be leaders in 21st century tourism. \nThe landscape our industry operates in has changed significantly over recent years\, prompting huge change\, unprecedented challenges but also new opportunities. \nA collaboration between the Scottish Tourism Alliance (STA)\, the Association of Scottish Visitor Attractions (ASVA) and HIT Scotland (Hospitality Industry Trust)\, the Industry Conference will run across two days. It will bring together an exciting range of speakers to deliver important insights\, advice and inspiration to navigate and flourish in this new world and to embrace the new opportunities and responsibilities it presents. This year’s event will also feature an exhibitor hall as well as a complimentary evening reception offering the ideal chance to catch up\, connect and have fun. \nThe biggest conference of its kind in Scotland\, the much-awaited event of the year is the perfect opportunity for the community to re-connect with industry peers\, make new connections\, gain invaluable and actionable learnings from expert speakers\, share knowledge and be inspired. \nThis is an unmissable event for anyone at any level who works\, supports or is interested in the tourism industry.
URL:https://investinangus.com/event/scotlands-tourism-industry-conference-2022/
LOCATION:Edinburgh International Conference Centre\, 150 Morrison Street\, Edinburgh\, EH3 8EE
CATEGORIES:Networking,Tourism
END:VEVENT
BEGIN:VEVENT
DTSTART;TZID=UTC:20221114T110000
DTEND;TZID=UTC:20221114T120000
DTSTAMP:20260424T022820
CREATED:20221024T111106Z
LAST-MODIFIED:20221024T111106Z
UID:10085716-1668423600-1668427200@investinangus.com
SUMMARY:Tourism businesses: Turn your customer reviews into increased customers
DESCRIPTION:During this session\, we’ll cover: \n\nHow to manage your online reputation proactively.\nHow to deal with customer or client feedback\, both positive and negative.\n\nHow the importance of reputation has changed since the pandemic.\n\nWhat cost-effective reassurance tools have increased in importance.\nWhat cost-effective reassurance tools are available to tourism businesses such as VisitScotland’s Quality Assurance schemes.
URL:https://investinangus.com/event/tourism-businesses-turn-your-customer-reviews-into-increased-customers/
CATEGORIES:Business Planning,Tourism
END:VEVENT
END:VCALENDAR