BEGIN:VCALENDAR
VERSION:2.0
PRODID:-//Invest in Angus - ECPv6.15.17.1//NONSGML v1.0//EN
CALSCALE:GREGORIAN
METHOD:PUBLISH
X-WR-CALNAME:Invest in Angus
X-ORIGINAL-URL:https://investinangus.com
X-WR-CALDESC:Events for Invest in Angus
REFRESH-INTERVAL;VALUE=DURATION:PT1H
X-Robots-Tag:noindex
X-PUBLISHED-TTL:PT1H
BEGIN:VTIMEZONE
TZID:UTC
BEGIN:STANDARD
TZOFFSETFROM:+0000
TZOFFSETTO:+0000
TZNAME:UTC
DTSTART:20220101T000000
END:STANDARD
END:VTIMEZONE
BEGIN:VEVENT
DTSTART;TZID=UTC:20230123T160000
DTEND;TZID=UTC:20230123T180000
DTSTAMP:20260423T182207
CREATED:20230117T091850Z
LAST-MODIFIED:20230117T091850Z
UID:10086247-1674489600-1674496800@investinangus.com
SUMMARY:Building Resilience in Hospitality and Tourism
DESCRIPTION:The past few years have devastated Scotland’s Hospitality & Tourism industry\, and employers have faced challenges\, including the pandemic\, spiralling energy and supply costs and staff shortages. This event will focus on the tools at our disposal to weather this ‘perfect storm’ while ensuring staff feel valued and supported. \nAimed at Hospitality & Tourism employers\, the event will be an opportunity to reflect on some of the sector’s challenges and explore opportunities to develop resilience through fair work practices.\nAttendees will hear from Gordon McIntyre\, founder of Hospitality Health – a charity focusing on supporting staff in the fantastic world of Hospitality and helping employers better understand how to ensure employee wellbeing. In addition\, a panel of Dundee-based employers sharing their experiences of engaging with Fair Work\, including The Selkie and Dundee University Students Association. \nThe audience will further explore the theme of resilience with a panel of employers\, who will speak more about the benefits (as well as challenges) of implementing fair work and sustainable practices in their business. \nDuring the event\, attendees will have an opportunity to speak with organisations offering support for businesses within the local area\, including Zero Waste Scotland\, NHS Public Health Scotland and Business Gateway. Guests are invited to Networking & Nibbles from the end of the session until 6pm.
URL:https://investinangus.com/event/building-resilience-in-hospitality-and-tourism/
LOCATION:Dundee & Angus College\, Gardyne Campus\, Dundee\, DD5 1NY
CATEGORIES:Business Planning,Networking,Tourism
END:VEVENT
END:VCALENDAR