BEGIN:VCALENDAR
VERSION:2.0
PRODID:-//Invest in Angus - ECPv6.15.17.1//NONSGML v1.0//EN
CALSCALE:GREGORIAN
METHOD:PUBLISH
X-ORIGINAL-URL:https://investinangus.com
X-WR-CALDESC:Events for Invest in Angus
REFRESH-INTERVAL;VALUE=DURATION:PT1H
X-Robots-Tag:noindex
X-PUBLISHED-TTL:PT1H
BEGIN:VTIMEZONE
TZID:UTC
BEGIN:STANDARD
TZOFFSETFROM:+0000
TZOFFSETTO:+0000
TZNAME:UTC
DTSTART:20220101T000000
END:STANDARD
END:VTIMEZONE
BEGIN:VEVENT
DTSTART;TZID=UTC:20230823T160000
DTEND;TZID=UTC:20230823T180000
DTSTAMP:20260422T121332
CREATED:20230724T090318Z
LAST-MODIFIED:20230724T090318Z
UID:10087637-1692806400-1692813600@investinangus.com
SUMMARY:Shaping the future of tourism in Angus
DESCRIPTION:Join us at Forbes of Kingennie Country Resort on Wednesday 23 August 2023\, where we will be reviewing what has been delivered through the Angus Tourism Framework over the last year\, and looking at current challenges and priorities to help shape action plans for the year ahead. \nThis workshop is open to anyone connected to tourism in Angus\, including businesses\, community groups and volunteers. \nSee Eventbrite for more details and to register.
URL:https://investinangus.com/event/shaping-the-future-of-tourism-in-angus/
LOCATION:Forbes of Kingennie\, DD5 3RD
CATEGORIES:Networking,Tourism
END:VEVENT
END:VCALENDAR