BEGIN:VCALENDAR
VERSION:2.0
PRODID:-//Invest in Angus - ECPv6.15.17.1//NONSGML v1.0//EN
CALSCALE:GREGORIAN
METHOD:PUBLISH
X-WR-CALNAME:Invest in Angus
X-ORIGINAL-URL:https://investinangus.com
X-WR-CALDESC:Events for Invest in Angus
REFRESH-INTERVAL;VALUE=DURATION:PT1H
X-Robots-Tag:noindex
X-PUBLISHED-TTL:PT1H
BEGIN:VTIMEZONE
TZID:UTC
BEGIN:STANDARD
TZOFFSETFROM:+0000
TZOFFSETTO:+0000
TZNAME:UTC
DTSTART:20230101T000000
END:STANDARD
END:VTIMEZONE
BEGIN:VEVENT
DTSTART;TZID=UTC:20240417T090000
DTEND;TZID=UTC:20240418T170000
DTSTAMP:20260421T161220
CREATED:20240311T104953Z
LAST-MODIFIED:20240311T104953Z
UID:10088865-1713344400-1713459600@investinangus.com
SUMMARY:VisitScotland Connect 2024
DESCRIPTION:VisitScotland Connect 2024 will be taking place at the P&J Live Aberdeen on April 17-18\, 2024. \nVisitScotland Connect 2023 marked our first in-person event since the COVID-19 pandemic. The new workshop style format helped 175 tourism businesses connect with over 250 tour operators and travel advisors representing 23 countries. \nOur 2024 event will follow the same a business-to-business travel trade workshop structure\, connecting Buyers from around the globe with Scottish tourism businesses. \nPlease note: VisitScotland Connect 2024 is a closed event and only pre-approved businesses will be allowed entry.
URL:https://investinangus.com/event/visitscotland-connect-2024/
LOCATION:P&J Live\, East Burn Road\, Aberdeen\, AB21 9FX\, United Kingdom
CATEGORIES:Networking,Tourism
END:VEVENT
BEGIN:VEVENT
DTSTART;TZID=UTC:20240422T130000
DTEND;TZID=UTC:20240422T170000
DTSTAMP:20260421T161220
CREATED:20240415T111209Z
LAST-MODIFIED:20240415T111209Z
UID:10089033-1713790800-1713805200@investinangus.com
SUMMARY:ASSC regional gathering: navigating change\, embracing opportunity
DESCRIPTION:The ASSC invites you to their first regional gathering of 2024\, aimed at businesses and organisations involved in the self-catering sector. \nThe afternoon will kick off with ample networking opportunities\, bringing together fellow operators\, tourism professionals\, and the dedicated team at ASSC. It’s a prime chance to connect with several dynamic partners and enjoy a diverse range of offerings. From sustainable products to indispensable services like insurance\, banking\, and booking agents\, there’s something for everyone to explore. \nThe event includes a fantastic line-up of speakers\, including Tiomóid Foley\, VisitScotland Net Zero Manager\, and Scott MacLean\, Managing Director of Green Tourism. Additionally\, ASSC CEO\, Fiona Campbell\, will provide updates on pertinent topics such as short-term let licensing and planning\, FHL abolition\, and the visitor levy. \nFurthermore\, there will be a panel discussion titled “Leading change: empowering the self-catering sector for responsible tourism and climate action”\, featuring ASSC Chair\, Clare Winskill\, and Gordon Drummond of Cairngorm Lodges amongst others. \nThis gathering isn’t just about convening; it’s about bringing together Scotland’s self-catering community to honour and celebrate Earth Day and embrace the mission of responsible tourism. \nEmbark on a journey to champion sustainability\, empower the industry\, and pave the way for a brighter\, greener future. \nMark your calendars and join this event to kick-start your journey to make a meaningful difference in Scotland’s self-catering sector.
URL:https://investinangus.com/event/assc-regional-gathering-navigating-change-embracing-opportunity/
LOCATION:Perth Theatre\, Mill Street\, Perth\, PH1 5HZ
CATEGORIES:Sustainable/Circular Economy,Tourism
END:VEVENT
BEGIN:VEVENT
DTSTART;TZID=UTC:20240430T123000
DTEND;TZID=UTC:20240430T140000
DTSTAMP:20260421T161220
CREATED:20240429T101812Z
LAST-MODIFIED:20240429T101812Z
UID:10089195-1714480200-1714485600@investinangus.com
SUMMARY:Creating accessible destinations
DESCRIPTION:Accessibility is rightly growing in importance. Those organisations who get it right reap the benefits of accessing the disability market. \nYou will gain better access to customers by providing better access to: \n\nphysical destinations and attractions\nwebsite information\n\nMaking your destination accessible will naturally improve visitor satisfaction. It will encourage repeat bookings and boost positive word-of-mouth communication. \nInformation is fundamental. Research shows that 83% of people are looking for access information when planning a trip will use a destination’s website. But only 39% find this information easily. \nThe key is making access information easily accessible which will be covered in this interactive workshop session.
URL:https://investinangus.com/event/creating-accessible-destinations/
CATEGORIES:Business Planning,Tourism
END:VEVENT
END:VCALENDAR