BEGIN:VCALENDAR
VERSION:2.0
PRODID:-//Invest in Angus - ECPv6.15.17.1//NONSGML v1.0//EN
CALSCALE:GREGORIAN
METHOD:PUBLISH
X-WR-CALNAME:Invest in Angus
X-ORIGINAL-URL:https://investinangus.com
X-WR-CALDESC:Events for Invest in Angus
REFRESH-INTERVAL;VALUE=DURATION:PT1H
X-Robots-Tag:noindex
X-PUBLISHED-TTL:PT1H
BEGIN:VTIMEZONE
TZID:UTC
BEGIN:STANDARD
TZOFFSETFROM:+0000
TZOFFSETTO:+0000
TZNAME:UTC
DTSTART:20230101T000000
END:STANDARD
END:VTIMEZONE
BEGIN:VEVENT
DTSTART;TZID=UTC:20240815T180000
DTEND;TZID=UTC:20240815T200000
DTSTAMP:20260420T001552
CREATED:20240708T085438Z
LAST-MODIFIED:20240708T085438Z
UID:10089563-1723744800-1723752000@investinangus.com
SUMMARY:Is it too soon to talk about the C word?
DESCRIPTION:Join us for an exciting joint networking event with Appetite for Angus at the Pathhead Farm Shop and Café. This event is your chance to connect with like-minded individuals and businesses in your community and to kickstart your business’s Christmas plans. \nLearn about upcoming events hosted by both Business Gateway and Appetite for Angus\, and explore the various support options available to you in the lead-up to the festive season. \nIn addition to networking\, you will have the chance to hear from Ally\, the owner of Pathhead Farm. Ally will share his vision for the farm shop and café while discussing his search for local suppliers to feature in his business. This is a fantastic opportunity to explore potential collaborations and gain insights into local market opportunities. \nDon’t miss this opportunity to network with local businesses and discover how you can benefit from the resources and support provided by Business Gateway and Appetite for Angus.
URL:https://investinangus.com/event/is-it-too-soon-to-talk-about-the-c-word/
LOCATION:Pathhead Farm\, Forfar Road\, Kirriemuir\, DD8 5BY
CATEGORIES:Business Planning,Food & Drink,Networking,Tourism
END:VEVENT
BEGIN:VEVENT
DTSTART;TZID=UTC:20240822T100000
DTEND;TZID=UTC:20240822T160000
DTSTAMP:20260420T001552
CREATED:20240807T101226Z
LAST-MODIFIED:20240807T101226Z
UID:10089724-1724320800-1724342400@investinangus.com
SUMMARY:Telling Your Biodiversity\, Conservation and Sustainability Story
DESCRIPTION:The next Angus Agritourism Monitor Farm meeting takes place on Thursday 22nd August at Kinclune Estate\, Kirkton of Kingoldrum\, Kirriemuir\, Angus DD8 5HX \nThe focus of the meeting is on ‘Telling Your Biodiversity\, Conservation and Sustainability Story’. \nWe will hear from Monitor Farmer Aylwin Pillai on the progress of the build of their new wedding venue and an update on how the Highland pony tours and accommodation is performing. \nWe will then take a walk up the hill behind Kinclune\, where you will find out more from Virginia Osborne about how to tell an engaging story about conservation\, biodiversity and sustainability. \nThe meeting itself is free to attend and all agritourism\, rural tourism and rural food and drink businesses are welcome as well as farmers and crofters considering agritourism.
URL:https://investinangus.com/event/telling-your-biodiversity-conservation-and-sustainability-story/
LOCATION:Kinclune Estate\, Kirkton of Kingoldrum\, Forfar\, DD8 5HX
CATEGORIES:Food & Drink,Networking,Tourism
END:VEVENT
BEGIN:VEVENT
DTSTART;TZID=UTC:20240829T140000
DTEND;TZID=UTC:20240829T160000
DTSTAMP:20260420T001552
CREATED:20240708T091201Z
LAST-MODIFIED:20240708T091201Z
UID:10089580-1724940000-1724947200@investinangus.com
SUMMARY:Maximising Trade Show Success
DESCRIPTION:Are you looking to exhibit at trade shows in the UK or overseas? This workshop will teach you proven strategies to maximise your participation through pre-event\, on-site\, and post-event tactics. These tips will help you capitalise on your participation\, meet your target audience\, and stand out from competitors. \nWith over 25 years of experience in PR and marketing\, our expert speaker Mandy Queen has created successful campaigns for more than 40 trade shows\, including top events like Cosmoprof\, Paperworld\, and Seafood Expo. \nIn this workshop\, Mandy will explain how to attract the right people\, engage with them effectively at the event\, and maintain momentum afterwards. \nDon’t miss this opportunity to transform your trade show success. Book your place now.
URL:https://investinangus.com/event/maximising-trade-show-success/
LOCATION:Strathmore Rugby Club\, Inchmacoble Park\, Forfar\, DD8 1RL
CATEGORIES:Business Planning,Networking,Tourism
END:VEVENT
END:VCALENDAR