BEGIN:VCALENDAR
VERSION:2.0
PRODID:-//Invest in Angus - ECPv6.15.17.1//NONSGML v1.0//EN
CALSCALE:GREGORIAN
METHOD:PUBLISH
X-WR-CALNAME:Invest in Angus
X-ORIGINAL-URL:https://investinangus.com
X-WR-CALDESC:Events for Invest in Angus
REFRESH-INTERVAL;VALUE=DURATION:PT1H
X-Robots-Tag:noindex
X-PUBLISHED-TTL:PT1H
BEGIN:VTIMEZONE
TZID:UTC
BEGIN:STANDARD
TZOFFSETFROM:+0000
TZOFFSETTO:+0000
TZNAME:UTC
DTSTART:20230101T000000
END:STANDARD
END:VTIMEZONE
BEGIN:VEVENT
DTSTART;TZID=UTC:20241002T100000
DTEND;TZID=UTC:20241002T130000
DTSTAMP:20260420T174421
CREATED:20240812T102339Z
LAST-MODIFIED:20240812T102339Z
UID:10089753-1727863200-1727874000@investinangus.com
SUMMARY:Build your Business Confidence in Tourism
DESCRIPTION:Do you already have a business in the tourism industry?\nAre there aspects of the business that you are not so confident about?\nCould professional input help your business grow?\n\nIf the answer to these questions is ‘yes’ then our ‘Build your Business Confidence in Tourism’ course has been designed for people just like you. It’s a short course\, held over 3 sessions\, recognising that time away from your business is valuable but also vital. \nWe will help you to audit your business and identify the key areas to focus your attention on to maximise potential. Plus\, there will be the opportunity to up skill in best practice\, and time to network with peers.
URL:https://investinangus.com/event/build-your-business-confidence-in-tourism-2/
LOCATION:Strathmore Rugby Club\, Inchmacoble Park\, Forfar\, DD8 1RL
CATEGORIES:Tourism
END:VEVENT
BEGIN:VEVENT
DTSTART;TZID=UTC:20241002T110000
DTEND;TZID=UTC:20241002T120000
DTSTAMP:20260420T174421
CREATED:20240912T144932Z
LAST-MODIFIED:20240912T144932Z
UID:10089989-1727866800-1727870400@investinangus.com
SUMMARY:Perthshire Talks Responsible Tourism: accessibility information to promote your business
DESCRIPTION:Do you have accessibility facilities\, such as accessible bedroom(s) or a quiet space\, or has your venue been designed to cater for wheelchair users or visitors with hearing or sight impairments? \nDo these facilities appeal to your current customer base? Do you provide detailed information about these facilities on your website? \nIf the answer to any of these questions is yes\, this session will be of interest to you. \nThis webinar will provide practical advice\, top tips and guidance on how to use detailed access guides to market your business to new customers. \nWe’ll be joined by industry experts including Marina Di Duca\, VisitScotland Inclusive Tourism Manager\, Carrie-Ann Lightley\, Head of Marketing at AccessAble\, an accessibility guide specialist and Pippa Stacey\, an award-winning writer\, speaker and charity sector communication consultant.
URL:https://investinangus.com/event/perthshire-talks-responsible-tourism-accessibility-information-to-promote-your-business/
CATEGORIES:Accessibility,Tourism
END:VEVENT
BEGIN:VEVENT
DTSTART;TZID=UTC:20241003T110000
DTEND;TZID=UTC:20241003T123000
DTSTAMP:20260420T174421
CREATED:20240827T152021Z
LAST-MODIFIED:20240827T152021Z
UID:10089882-1727953200-1727958600@investinangus.com
SUMMARY:Tourism Experiences: Boost your Bookings
DESCRIPTION:Join VisitScotland as we delve into the cutting-edge technology behind online booking and distribution in the first of our new series of digital skills webinars. \nWhether you’re a visitor attraction\, an activity provider\, or a tour company\, this webinar is tailor-made for you. \nTaking place on 3 October\, at 11am\, this free session will delve into what modern online booking solutions can offer your business\, from seamless reservations to business personalisation. \nHear about some game-changing functionality that can have a positive impact on the customer booking process and learn why strategic distribution is the key to filling empty slots\, unfilled tours and driving growth. \nWe’ll look at effective distribution channels that maximise your reach and revenue. From collaborating with travel trade partners to leveraging Online Travel Agents (OTAs) and harnessing the power of Google Things To Do. \nThis webinar is not to be missed\, packed full of support\, insights and practical tips that you can implement within your business.
URL:https://investinangus.com/event/tourism-experiences-boost-your-bookings/
CATEGORIES:Business Planning,Digital Marketing,Tourism
END:VEVENT
BEGIN:VEVENT
DTSTART;TZID=UTC:20241010T110000
DTEND;TZID=UTC:20241010T120000
DTSTAMP:20260420T174421
CREATED:20240827T152209Z
LAST-MODIFIED:20240827T152209Z
UID:10089884-1728558000-1728561600@investinangus.com
SUMMARY:Tourism Experiences: Google Things To Do with Tourpreneur
DESCRIPTION:Join VisitScotland on our second webinar of the series. We’ll be joined by guests from Tourpreneur as we explore how Google Things to Do can boost your business visibility\, attract eager travellers\, and drive revenue. \nWhether you’re a visitor attraction\, an activity provider\, or a tour company\, this webinar is tailor-made for you. \nTaking place on 10 October\, at 11am\, this free session will cover: \n“Google Things to do” functionality. Whether you’re a seasoned pro or a curious beginner\, this webinar will introduce you to its potential and show you how to leverage it effectively. \nLearn about the best ways to connect with Google Things To Do and the enrolment process\, ensuring you’re set up to make the most of this powerful tool\, with an opportunity to ask questions about your own set up. \nThis session is designed to give you a better understanding of the platform and we’ll be sharing best practice and examples from around the world.
URL:https://investinangus.com/event/tourism-experiences-google-things-to-do-with-tourpreneur/
CATEGORIES:Digital Marketing,Tourism
END:VEVENT
BEGIN:VEVENT
DTSTART;TZID=UTC:20241022T110000
DTEND;TZID=UTC:20241022T123000
DTSTAMP:20260420T174421
CREATED:20240812T105510Z
LAST-MODIFIED:20240812T105510Z
UID:10089780-1729594800-1729600200@investinangus.com
SUMMARY:Package travel regulations webinar
DESCRIPTION:Does your business sell two or more different types of travel or tourism services? Then you might have certain obligations under the rules on package travel and linked arrangements. \nJoin this webinar by VisitScotland and Travlaw for a detailed introduction to package travel regulations (PTR) and learn more about current UK and EU regulations. \nTravlaw is a full service\, travel-niche law firm. They provide legal advice that’s specifically tailored to meet the needs of the travel industry.
URL:https://investinangus.com/event/package-travel-regulations-webinar/
CATEGORIES:Legislation,Tourism
END:VEVENT
BEGIN:VEVENT
DTSTART;TZID=UTC:20241022T153000
DTEND;TZID=UTC:20241022T180000
DTSTAMP:20260420T174421
CREATED:20240912T144203Z
LAST-MODIFIED:20240912T144203Z
UID:10089983-1729611000-1729620000@investinangus.com
SUMMARY:Product and Experience Innovation Workshop
DESCRIPTION:Product and Experience Innovation Workshop: Collaborate and innovate with local stakeholders to create experiences unique to Angus. \nAngus Tourism Cooperative\, Visit Angus and VisitScotland invite you to a dynamic Product and Experience Innovation Workshop\, where you’ll gain valuable insights into current and emerging trends in the industry. \nThis event will take place on Tuesday 22 October\, from 3.30pm to 6pm\, at Forbes of Kingennie. \nThis is your chance to collaborate with fellow tourism professionals\, brainstorm new ideas\, and create innovative products and experiences that highlight the unique charm of Angus. \nTogether\, let’s seize the opportunities at hand\, enhance our collective offerings\, and put Angus on the map as a must-visit destination. Your participation is crucial to our shared success. \nCome and join us! See the full agenda and register to attend.
URL:https://investinangus.com/event/product-and-experience-innovation-workshop/
LOCATION:Forbes of Kingennie\, DD5 3RD
CATEGORIES:Tourism
END:VEVENT
BEGIN:VEVENT
DTSTART;TZID=UTC:20241023T090000
DTEND;TZID=UTC:20241023T160000
DTSTAMP:20260420T174421
CREATED:20240912T145140Z
LAST-MODIFIED:20240912T145140Z
UID:10089991-1729674000-1729699200@investinangus.com
SUMMARY:Perthshire Talks Responsible Tourism: welcoming all customers
DESCRIPTION:This free in-person event will take place on 23 October at Perth Concert Hall\, from 9.15am\, finishing at 4.00pm. \nThis event will provide businesses with tips and advice on how to improve customer service for disabled customers\, which we know also benefits other customer groups. \nThis course will include activities\, exercises\, and discussions. Each participant will receive a guide containing practical tips and a jointly branded VisitScotland / Welcoming All Customers course certificate. \nBusinesses will learn about: \n\nadopting a positive attitude to all customers and anticipating accessibility requirements\nsuccessful communication styles to identify customer needs\nlegal obligations and types of discrimination\n\n*Please note this training event is available to businesses who attended either of the following webinars: \n\nPerthshire Talks Tourism: unlock the potential of accessible tourism\nPerthshire Talks Tourism: access information to promote your business\n\nThe registration for the event will go live on 3 October 2024. See https://www.visitscotland.org/news/2024/perthshire-talks-tourism-webinars for booking information. \nThis event has limited places and will be on a first come\, first serve basis. To allow more businesses the opportunity to be trained\, only one person from each business can attend.
URL:https://investinangus.com/event/perthshire-talks-responsible-tourism-welcoming-all-customers/
LOCATION:Perth Concert Hall\, Mill Street\, Perth\, PH1 5HZ
CATEGORIES:Tourism
END:VEVENT
BEGIN:VEVENT
DTSTART;TZID=UTC:20241024T110000
DTEND;TZID=UTC:20241024T123000
DTSTAMP:20260420T174421
CREATED:20240827T152442Z
LAST-MODIFIED:20240827T152442Z
UID:10089886-1729767600-1729773000@investinangus.com
SUMMARY:Tourism Experiences: Online Booking or Bust
DESCRIPTION:Join VisitScotland’s new interactive webinar workshop and take a deeper look at online booking systems for visitor attractions\, activity providers\, and tour companies. \nDiscover how an online booking system can transform your operations. From streamlining processes to maximising bookings – make sure it’s one of the most important tools in your marketing arsenal. \nYou’ll also hear about how your booking system can serve as the ultimate hub for product information\, availability\, and bookings. \nAs part of this session\, you’ll be asked to analyse your own business practices and consider what might be improved. \nPlease note: There are limited places available for this session\, and registration will be on a first come\, first serve basis. \nDue to the format of this session\, which is specifically tailored for visitor attractions\, activity providers and tour companies\, please use the form to submit your interest in attending. It has a series of questions to make sure this session is right for your business.
URL:https://investinangus.com/event/tourism-experiences-online-booking-or-bust/
CATEGORIES:Business Planning,Digital Marketing,Tourism
END:VEVENT
BEGIN:VEVENT
DTSTART;TZID=UTC:20241029T133000
DTEND;TZID=UTC:20241029T143000
DTSTAMP:20260420T174421
CREATED:20241021T162523Z
LAST-MODIFIED:20241021T162523Z
UID:10090174-1730208600-1730212200@investinangus.com
SUMMARY:Accessible and Inclusive Agritourism
DESCRIPTION:Join Scotland’s Agritourism Monitor Farms Programme for an informative event focused on accessibility and inclusion within the agritourism sector. We are delighted to welcome Moira Henderson\, The Rings\, to talk about her experience setting up and developing a successful accessible agritourism business. \nWhether you are just starting out or running an established business\, you will benefit from hearing from Moira who brings a wealth of experience in this area and who will be ready to answer all your questions. \nMoira grew up on the West coast of Scotland married David in 1980 and they moved to Fife. They have four adult children & seven grandchildren. David lectured at Elmwood Agricultural College\, and Moira was a Registered General Nurse. They bought the family farm in 1988\, setting up the partnership of Firm of M.C. Henderson. The business was mostly sheep and crops but later expanded to include egg production and retail. The farm had two holiday caravans which Moira used to supplement David’s income and keep the small 90 acres going for many years\, however when these came to the end of their “life” the family was keen to develop holiday accommodation which would meet the needs of those with disabilities. \nThis farm diversification began as a simple idea to provide a cottage with a ceiling track hoist but resulted in the completion of The Rings cottage in 2016. In 2018\, Moira was awarded an MBE for services to Accessible Tourism in Fife. \nThe Rings now includes a uniquely divideable cottage with 8 fully accessible bedrooms with ensuite wetrooms. The cottage is fully inclusive of those with access needs providing hoists\, profiling beds and equipment such as shower chairs; but you don’t have to break a leg to come and stay\, they don’t discriminate against you if you don’t have a disability!
URL:https://investinangus.com/event/accessible-and-inclusive-agritourism/
CATEGORIES:Tourism
END:VEVENT
BEGIN:VEVENT
DTSTART;TZID=UTC:20241030T120000
DTEND;TZID=UTC:20241030T130000
DTSTAMP:20260420T174421
CREATED:20241021T165002Z
LAST-MODIFIED:20241021T165002Z
UID:10090184-1730289600-1730293200@investinangus.com
SUMMARY:Tourism and heritage sector skills
DESCRIPTION:Join Diane Cunningham\, Growth & Inward Investment Manager at Skills Development Scotland\, and Lawrence Durden\, Tourism Sector Manager\, as they explore the challenges faced by the tourism and heritage sectors in talent attraction and retention. \nJoining Diane and Lawrence are Catherine Cartmell\, Historic Environment Scotland’s Skills Investment Plan Manager\, Kat Brogan\, Managing Director of Mercat Tours and Nicola Watt\, Head of People at Buzzworks. They will provide industry insights and examples of best practice in recruitment and retention across their respective sectors.
URL:https://investinangus.com/event/tourism-and-heritage-sector-skills/
CATEGORIES:HR,Recruitment,Tourism
END:VEVENT
BEGIN:VEVENT
DTSTART;TZID=UTC:20241031T100000
DTEND;TZID=UTC:20241031T123000
DTSTAMP:20260420T174421
CREATED:20240827T152629Z
LAST-MODIFIED:20240827T152629Z
UID:10089888-1730368800-1730377800@investinangus.com
SUMMARY:Tourism Experiences: Mastering Online Travel Agents
DESCRIPTION:Can Online Travel Agents (OTAs) add to your growth and\, most importantly\, to your profitability? \nJoin our interactive webinar designed to provide visitor attractions\, activity providers\, and tour companies\, with an in depth understanding of working with OTAs. \nThis session will focus on businesses that are looking to start using OTAs for the first time and\, if already using an OTA\, how to improve the performance of your listings. \nAs part of this session\, you’ll be asked to analyse your own business practices and consider what might be improved. \nPlease note: There are limited places available for this session\, and registration will be on a first come\, first serve basis. \nDue to the format of this session\, which is specifically tailored for visitor attractions\, activity providers and tour companies\, please use the form to submit your interest in attending. It has a series of questions to make sure this session is right for your business.
URL:https://investinangus.com/event/tourism-experiences-mastering-online-travel-agents/
CATEGORIES:Business Planning,Tourism
END:VEVENT
END:VCALENDAR