BEGIN:VCALENDAR
VERSION:2.0
PRODID:-//Invest in Angus - ECPv6.15.17.1//NONSGML v1.0//EN
CALSCALE:GREGORIAN
METHOD:PUBLISH
X-WR-CALNAME:Invest in Angus
X-ORIGINAL-URL:https://investinangus.com
X-WR-CALDESC:Events for Invest in Angus
REFRESH-INTERVAL;VALUE=DURATION:PT1H
X-Robots-Tag:noindex
X-PUBLISHED-TTL:PT1H
BEGIN:VTIMEZONE
TZID:UTC
BEGIN:STANDARD
TZOFFSETFROM:+0000
TZOFFSETTO:+0000
TZNAME:UTC
DTSTART:20240101T000000
END:STANDARD
END:VTIMEZONE
BEGIN:VEVENT
DTSTART;TZID=UTC:20250116T100000
DTEND;TZID=UTC:20250116T153000
DTSTAMP:20260420T092507
CREATED:20241216T090724Z
LAST-MODIFIED:20241216T090724Z
UID:10090464-1737021600-1737041400@investinangus.com
SUMMARY:Building Travel Trade Through Farm Tours
DESCRIPTION:Join Scotland’s Agritourism Monitor Farms Programme at Bairnkine Farm in the Scottish Borders for another informative event\, this time focused on building travel trade connections through farm tours. \nWhether you’re an established agritourism business or just starting out\, all are welcome to attend. \nLucy Tile\, of Bairnkine Farm\, will provide progress updates on their farm tours and lead a walkaround of the farm. We’ll also hear from Jasmine Jackson\, Jacksons at Jedburgh\, and Robert and Lucy Wilson\, Wilson’s Farm and Kitchen\, who will talk about the ways in which they have developed their business with the travel trade. \nRona Wallace\, Senior Intermediary Marketing Manager at VisitScotland\, will also lead a session on getting started working with the travel trade and provide useful insights on the industry. \nThere will be a chance to share thoughts & ideas and network over lunchtime. \nTea and Coffee will be provided. There will be a cup of soup at lunchtime but please do bring a packed lunch.
URL:https://investinangus.com/event/building-travel-trade-through-farm-tours/
LOCATION:Bairnkine Farm Tours\, Bairnkine Farm\, Jedburgh\, TD8 6PH
CATEGORIES:Tourism
END:VEVENT
END:VCALENDAR