BEGIN:VCALENDAR
VERSION:2.0
PRODID:-//Invest in Angus - ECPv6.15.17.1//NONSGML v1.0//EN
CALSCALE:GREGORIAN
METHOD:PUBLISH
X-ORIGINAL-URL:https://investinangus.com
X-WR-CALDESC:Events for Invest in Angus
REFRESH-INTERVAL;VALUE=DURATION:PT1H
X-Robots-Tag:noindex
X-PUBLISHED-TTL:PT1H
BEGIN:VTIMEZONE
TZID:UTC
BEGIN:STANDARD
TZOFFSETFROM:+0000
TZOFFSETTO:+0000
TZNAME:UTC
DTSTART:20240101T000000
END:STANDARD
END:VTIMEZONE
BEGIN:VEVENT
DTSTART;TZID=UTC:20250904T120000
DTEND;TZID=UTC:20250904T130000
DTSTAMP:20260418T201209
CREATED:20250825T144441Z
LAST-MODIFIED:20250825T144441Z
UID:10091824-1756987200-1756990800@investinangus.com
SUMMARY:Collaborating for change: Growing responsible tourism
DESCRIPTION:Effective collaboration can be a route to growing sustainable agritourism through enhanced visitor numbers\, unique experiences and improved visibility of your offer. \nJillian McEwan\, Agritourism Monitor Farm Core Community Group member will share insights into growing sustainable tourism through collaboration. We will hear about the work of the Lunan Bay Community Group in providing visitor infrastructure in the bay. Highlighted examples will include a collaboration between the Community Group\, Arbikie Distillery and Insights Coaches; facilitation of new signage\, an all-abilities viewing platform and a community ranger service which all improve the visitor experience to the area. \nWe will also hear about a new Goat to Garment Tour which Lunan Bay Farm is launching in September in collaboration with partner Johnsons.
URL:https://investinangus.com/event/collaborating-for-change-growing-responsible-tourism/
CATEGORIES:Tourism
END:VEVENT
BEGIN:VEVENT
DTSTART;TZID=UTC:20250904T140000
DTEND;TZID=UTC:20250904T143000
DTSTAMP:20260418T201209
CREATED:20250808T115829Z
LAST-MODIFIED:20250808T115829Z
UID:10091723-1756994400-1756996200@investinangus.com
SUMMARY:VisitScotland bitesize webinars: Introduction to travel distribution
DESCRIPTION:Discover how travel distribution can help you reach more potential visitors and grow your business. This session will introduce the key travel distribution partners from tour operators to online travel agents. \nPerfect for those new to travel distribution\, this webinar offers a clear and simple introduction.
URL:https://investinangus.com/event/visitscotland-bitesize-webinars-introduction-to-travel-distribution/
CATEGORIES:Tourism
END:VEVENT
BEGIN:VEVENT
DTSTART;TZID=UTC:20250916T103000
DTEND;TZID=UTC:20250916T120000
DTSTAMP:20260418T201209
CREATED:20250908T123611Z
LAST-MODIFIED:20250908T123611Z
UID:10091918-1758018600-1758024000@investinangus.com
SUMMARY:Driving Success in Scotland's Hospitality & Accommodation Sector
DESCRIPTION:The hotel market in Scotland has seen mixed performance this year\, driven largely by an increase in supply in the capital. While Edinburgh remains a strong market\, the growth in hotel stock — alongside a noticeable slowdown in the domestic audience\, greater price sensitivity\, and a reduction in short-term let accommodation — has created tougher year-on-year comparisons. Other regions across Scotland\, however\, have continued to perform well\, supported by steady demand and major events such as Oasis and AC/DC shows bringing strong peaks in occupancy. \nInternational investors continue to be attracted to the country and are driving an exuberant transactions market\, which is set to grow further this year and is seen as a focal point for significant capital deployment. \nWhile the outlook for the strong pipeline of hotels remains positive\, particularly in the luxury segment\, the industry faces a series of headwinds\, including the confirmed tourism levies in Edinburgh (5% for all bookings made for stays from July 2026 onwards\, for reservations made from 1st October 2025) and Aberdeen (7% from April 2027)\, as well as an ongoing skills shortage. These factors are placing pressure on profits and Scotland’s ability to remain competitive as a leading tourist destination. \nThe Scottish Tourism Alliance (STA) is delighted to once again be partnering with HotelPartner\, a trusted market leader in revenue management and distribution services for the hospitality and tourism industry\, to explore the solutions available to Scottish hoteliers to ensure that the market can continue to thrive. \nWhether you operate a luxury hotel\, a budget accommodation\, a boutique property\, or a youth hostel\, this webinar will share accessible and actionable advice on tackling challenges such as the skills shortage\, optimising performance\, and making the most effective use of technology in your operations.
URL:https://investinangus.com/event/driving-success-in-scotlands-hospitality-accommodation-sector/
CATEGORIES:Tourism
END:VEVENT
BEGIN:VEVENT
DTSTART;TZID=UTC:20250917T110000
DTEND;TZID=UTC:20250917T120000
DTSTAMP:20260418T201209
CREATED:20250806T153423Z
LAST-MODIFIED:20250806T153423Z
UID:10091673-1758106800-1758110400@investinangus.com
SUMMARY:Unlocking the Potential: The Power of Inclusive Marketing
DESCRIPTION:Open to all Scottish tourism business. \nJoin us for an insightful session designed to help you maximise your impact in the inclusive tourism market. \nWe’ll explore: \n\nCurrent market insights from Sarah Muir\, Product Manager (Abbey UK)\, a travel intermediary working directly with clients seeking inclusive holiday experiences. Learn what information these customers need to confidently choose your business.\nInclusive marketing in action with expert Carrie-Ann Lightley (Accessible Travel Writer & content creator )\, who will share practical tips on how to use photography\, content\, and messaging to authentically connect with this growing market.\nSupport tools and resources available through our Business Support Hub to help you implement what you’ve learned and enhance your visibility to inclusive travellers.\n\nThis is a valuable opportunity to strengthen your approach and better connect with the inclusive tourism market.
URL:https://investinangus.com/event/unlocking-the-potential-the-power-of-inclusive-marketing/
CATEGORIES:Accessibility,Tourism
END:VEVENT
BEGIN:VEVENT
DTSTART;TZID=UTC:20250918T140000
DTEND;TZID=UTC:20250918T143000
DTSTAMP:20260418T201209
CREATED:20250808T115940Z
LAST-MODIFIED:20250808T115940Z
UID:10091725-1758204000-1758205800@investinangus.com
SUMMARY:VisitScotland bitesize webinars: How to work with travel distribution partner
DESCRIPTION:Get advice on how to pitch your business to a travel distribution partner and create a handy product sheet. Learn how to focus on your key selling points\, tailor your message to different audiences\, and create variety in your delivery. \nIdeal for those looking to start building relationships with travel distribution partners and attend trade events.
URL:https://investinangus.com/event/visitscotland-bitesize-webinars-how-to-work-with-travel-distribution-partner/
CATEGORIES:Tourism
END:VEVENT
BEGIN:VEVENT
DTSTART;TZID=UTC:20250925T120000
DTEND;TZID=UTC:20250925T130000
DTSTAMP:20260418T201209
CREATED:20250825T145216Z
LAST-MODIFIED:20250825T145216Z
UID:10091826-1758801600-1758805200@investinangus.com
SUMMARY:Managing people\, growing agritourism: Performance and Discipline
DESCRIPTION:Employment Law and Human Resource Management Expert\, Sophie Henderson of Greenburn will take us through an overview of how to use performance management effectively with your staff to ensure best outcomes. Sophie will also provide information on what to do when things go wrong with insights into the disciplinary process. \nIf you have specific questions or case studies\, it would be great to hear from you in advance and Sophie can answer your questions on the day.
URL:https://investinangus.com/event/managing-people-growing-agritourism-performance-and-discipline/
CATEGORIES:HR,Tourism
END:VEVENT
BEGIN:VEVENT
DTSTART;TZID=UTC:20250925T140000
DTEND;TZID=UTC:20250925T143000
DTSTAMP:20260418T201209
CREATED:20250808T120046Z
LAST-MODIFIED:20250808T120046Z
UID:10091727-1758808800-1758810600@investinangus.com
SUMMARY:VisitScotland bitesize webinars: How to Improve Your Search Engine Rankings
DESCRIPTION:Demystify the world of Search Engine Optimisation (SEO) and learn how to grow your tourism or event website’s organic search traffic. We’ll cover the SEO basics\, common myths and mistakes\, as well as how you can adapt your content to the quickly-changing Google landscape. \nIdeal for those unfamiliar with SEO or looking to expand their approach.
URL:https://investinangus.com/event/visitscotland-bitesize-webinars-how-to-improve-your-search-engine-rankings/
CATEGORIES:Tourism
END:VEVENT
END:VCALENDAR