BEGIN:VCALENDAR
VERSION:2.0
PRODID:-//Invest in Angus - ECPv6.15.17.1//NONSGML v1.0//EN
CALSCALE:GREGORIAN
METHOD:PUBLISH
X-ORIGINAL-URL:https://investinangus.com
X-WR-CALDESC:Events for Invest in Angus
REFRESH-INTERVAL;VALUE=DURATION:PT1H
X-Robots-Tag:noindex
X-PUBLISHED-TTL:PT1H
BEGIN:VTIMEZONE
TZID:UTC
BEGIN:STANDARD
TZOFFSETFROM:+0000
TZOFFSETTO:+0000
TZNAME:UTC
DTSTART:20210101T000000
END:STANDARD
END:VTIMEZONE
BEGIN:VEVENT
DTSTART;TZID=UTC:20220207T093000
DTEND;TZID=UTC:20220207T163000
DTSTAMP:20260425T113229
CREATED:20220112T165255Z
LAST-MODIFIED:20220112T165255Z
UID:10083891-1644226200-1644251400@investinangus.com
SUMMARY:Complete Storytelling - Dundee Workshop
DESCRIPTION:This one day workshop is designed to help tourism businesses with their recovery from the impacts of the COVID-19 pandemic. Delegates will learn new communications and sales skills to help enhance customer service delivery and re-build income streams. Successful consumer experiences are the product of creating and delivering engaging and memorable stories. Stories effortlessly transform consumers into ambassadors; generating repeat visits\, recommendations and increased secondary spend. \nComplete Storytelling is a highly motivational workshop that breaks down the fears and boundaries that prohibit truly effective communication. This is achieved through teaching and practicing practical methods in a safe\, supported and inspiring environment. Using performance techniques\, the experienced trainers will hone participant’s skills in Body Language and Voice by teaching tried and tested tips and tricks used regularly by actors and presenters. \nOver the course of the training\, attendees will learn how the power of your story can motivate staff\, create exceptional consumer experiences and generate income in a COVID secure environment. Attendees will be taught how to use storytelling to engage\, sell and create brand loyalty. \nCost: The delegate fee is £50\, inclusive of VAT. \nVenue:  This event will be held in Dundee\, at Verdant Works.
URL:https://investinangus.com/event/complete-storytelling-dundee-workshop/
LOCATION:Verdant Works\, West Henderson's Wynd\, Dundee\, DD1 5BT
CATEGORIES:Tourism
END:VEVENT
END:VCALENDAR